BEGIN:VCALENDAR
VERSION:2.0
PRODID:-//Alleghany Jam - ECPv6.15.20//NONSGML v1.0//EN
CALSCALE:GREGORIAN
METHOD:PUBLISH
X-WR-CALNAME:Alleghany Jam
X-ORIGINAL-URL:https://alleghanyjam.com
X-WR-CALDESC:Events for Alleghany Jam
REFRESH-INTERVAL;VALUE=DURATION:PT1H
X-Robots-Tag:noindex
X-PUBLISHED-TTL:PT1H
BEGIN:VTIMEZONE
TZID:America/New_York
BEGIN:DAYLIGHT
TZOFFSETFROM:-0500
TZOFFSETTO:-0400
TZNAME:EDT
DTSTART:20240310T070000
END:DAYLIGHT
BEGIN:STANDARD
TZOFFSETFROM:-0400
TZOFFSETTO:-0500
TZNAME:EST
DTSTART:20241103T060000
END:STANDARD
BEGIN:DAYLIGHT
TZOFFSETFROM:-0500
TZOFFSETTO:-0400
TZNAME:EDT
DTSTART:20250309T070000
END:DAYLIGHT
BEGIN:STANDARD
TZOFFSETFROM:-0400
TZOFFSETTO:-0500
TZNAME:EST
DTSTART:20251102T060000
END:STANDARD
BEGIN:DAYLIGHT
TZOFFSETFROM:-0500
TZOFFSETTO:-0400
TZNAME:EDT
DTSTART:20260308T070000
END:DAYLIGHT
BEGIN:STANDARD
TZOFFSETFROM:-0400
TZOFFSETTO:-0500
TZNAME:EST
DTSTART:20261101T060000
END:STANDARD
END:VTIMEZONE
BEGIN:VEVENT
DTSTART;TZID=America/New_York:20250714T170000
DTEND;TZID=America/New_York:20250714T180000
DTSTAMP:20260423T130739
CREATED:20250520T170413Z
LAST-MODIFIED:20250616T171811Z
UID:10004709-1752512400-1752516000@alleghanyjam.com
SUMMARY:Summer Class (All Ages Welcome!) - Beginner Dulcimer with Ms. Emily Spencer
DESCRIPTION:
URL:https://alleghanyjam.com/event/summer-class-all-ages-welcome-beginner-dulcimer-with-ms-emily-spencer/2025-07-14/
LOCATION:AJAM House\, 360 North Main Street\, Sparta\, NC\, 28675\, United States
CATEGORIES:Adult Classes,Adults,Class,Kids
ATTACH;FMTTYPE=image/png:https://alleghanyjam.com/wp-content/uploads/2025/04/2025-Spring-Adult-Classes-w-images-2-e1745416462553.png
END:VEVENT
BEGIN:VEVENT
DTSTART;TZID=America/New_York:20250714T060000
DTEND;TZID=America/New_York:20250714T110000
DTSTAMP:20260423T130739
CREATED:20250207T225028Z
LAST-MODIFIED:20250207T225647Z
UID:10002937-1752472800-1752490800@alleghanyjam.com
SUMMARY:AJAM Camp
DESCRIPTION:Daily on July 14 – July 18 \nOptional lunch add-on\, or bring a bag lunch \n 
URL:https://alleghanyjam.com/event/ajam-camp/2025-07-14/
LOCATION:AJAM House\, 360 North Main Street\, Sparta\, NC\, 28675\, United States
CATEGORIES:Adults,Events,Kids
END:VEVENT
BEGIN:VEVENT
DTSTART;TZID=America/New_York:20250709T170000
DTEND;TZID=America/New_York:20250709T180000
DTSTAMP:20260423T130739
CREATED:20250423T134726Z
LAST-MODIFIED:20250520T171923Z
UID:10004665-1752080400-1752084000@alleghanyjam.com
SUMMARY:Summer Adult Class - Beginner Guitar w/ Mr. Kyle Dean Smith
DESCRIPTION:
URL:https://alleghanyjam.com/event/summer-adult-class-beginner-guitar-w-mr-kyle-dean-smith/2025-07-09/
LOCATION:AJAM House\, 360 North Main Street\, Sparta\, NC\, 28675\, United States
CATEGORIES:Adult Classes,Adults,Class
ATTACH;FMTTYPE=image/png:https://alleghanyjam.com/wp-content/uploads/2025/05/Screenshot-2025-05-20-at-1.13.48 PM.png
END:VEVENT
BEGIN:VEVENT
DTSTART;TZID=America/New_York:20250708T180000
DTEND;TZID=America/New_York:20250708T193000
DTSTAMP:20260423T130739
CREATED:20250422T143729Z
LAST-MODIFIED:20250422T143729Z
UID:10004356-1751997600-1752003000@alleghanyjam.com
SUMMARY:Tuesday Night Jam!
DESCRIPTION:Dust off your instruments and join us for an old-time jam! Jack Cahn\, our amazing volunteer and board member\, will be leading the fun. All skill levels are welcome to this friendly and FREE weekly jam session. Come make some music with us!
URL:https://alleghanyjam.com/event/tuesday-night-jam-3/2025-07-08/
LOCATION:AJAM House\, 360 North Main Street\, Sparta\, NC\, 28675\, United States
CATEGORIES:Adults,Jam,Jams,Jams,Kids
ATTACH;FMTTYPE=image/png:https://alleghanyjam.com/wp-content/uploads/2025/03/All-Tuesday-Jams.png
END:VEVENT
BEGIN:VEVENT
DTSTART;TZID=America/New_York:20250708T174500
DTEND;TZID=America/New_York:20250708T183000
DTSTAMP:20260423T130739
CREATED:20250423T135223Z
LAST-MODIFIED:20250423T135223Z
UID:10004646-1751996700-1751999400@alleghanyjam.com
SUMMARY:Summer Adult Class - Intermediate Fiddle w/ Mr. Lucas Pasley
DESCRIPTION:
URL:https://alleghanyjam.com/event/summer-adult-class-intermediate-fiddle-w-mr-lucas-pasley/2025-07-08/
LOCATION:AJAM House\, 360 North Main Street\, Sparta\, NC\, 28675\, United States
CATEGORIES:Adult Classes,Adults,Class
ATTACH;FMTTYPE=image/png:https://alleghanyjam.com/wp-content/uploads/2025/04/2025-Spring-Adult-Classes-w-images-1-e1745416282346.png
END:VEVENT
BEGIN:VEVENT
DTSTART;TZID=America/New_York:20250708T170000
DTEND;TZID=America/New_York:20250708T174500
DTSTAMP:20260423T130739
CREATED:20250423T135129Z
LAST-MODIFIED:20250423T135129Z
UID:10004634-1751994000-1751996700@alleghanyjam.com
SUMMARY:Summer Adult Class - Beginner Fiddle w/ Mr. Lucas Pasley
DESCRIPTION:
URL:https://alleghanyjam.com/event/summer-adult-class-beginner-fiddle-w-mr-lucas-pasley/2025-07-08/
LOCATION:AJAM House\, 360 North Main Street\, Sparta\, NC\, 28675\, United States
CATEGORIES:Adult Classes,Adults,Class
ATTACH;FMTTYPE=image/png:https://alleghanyjam.com/wp-content/uploads/2025/04/2025-Spring-Adult-Classes-w-images-1-e1745416282346.png
END:VEVENT
BEGIN:VEVENT
DTSTART;TZID=America/New_York:20250707T180000
DTEND;TZID=America/New_York:20250707T193000
DTSTAMP:20260423T130739
CREATED:20250423T135500Z
LAST-MODIFIED:20250520T165449Z
UID:10004658-1751911200-1751916600@alleghanyjam.com
SUMMARY:Summer Adult Intermediate String Band - w/ Ms. Emily Spencer
DESCRIPTION:
URL:https://alleghanyjam.com/event/summer-adult-intermediate-string-band-w-ms-emily-spencer/2025-07-07/
LOCATION:AJAM House\, 360 North Main Street\, Sparta\, NC\, 28675\, United States
CATEGORIES:Adult Classes,Adults,Class
ATTACH;FMTTYPE=image/png:https://alleghanyjam.com/wp-content/uploads/2025/04/2025-Spring-Adult-Classes-w-images-2-e1745416462553.png
END:VEVENT
BEGIN:VEVENT
DTSTART;TZID=America/New_York:20250707T170000
DTEND;TZID=America/New_York:20250707T180000
DTSTAMP:20260423T130739
CREATED:20250520T170413Z
LAST-MODIFIED:20250616T171811Z
UID:10004708-1751907600-1751911200@alleghanyjam.com
SUMMARY:Summer Class (All Ages Welcome!) - Beginner Dulcimer with Ms. Emily Spencer
DESCRIPTION:
URL:https://alleghanyjam.com/event/summer-class-all-ages-welcome-beginner-dulcimer-with-ms-emily-spencer/2025-07-07/
LOCATION:AJAM House\, 360 North Main Street\, Sparta\, NC\, 28675\, United States
CATEGORIES:Adult Classes,Adults,Class,Kids
ATTACH;FMTTYPE=image/png:https://alleghanyjam.com/wp-content/uploads/2025/04/2025-Spring-Adult-Classes-w-images-2-e1745416462553.png
END:VEVENT
BEGIN:VEVENT
DTSTART;TZID=America/New_York:20250702T170000
DTEND;TZID=America/New_York:20250702T180000
DTSTAMP:20260423T130739
CREATED:20250423T134726Z
LAST-MODIFIED:20250520T171923Z
UID:10004664-1751475600-1751479200@alleghanyjam.com
SUMMARY:Summer Adult Class - Beginner Guitar w/ Mr. Kyle Dean Smith
DESCRIPTION:
URL:https://alleghanyjam.com/event/summer-adult-class-beginner-guitar-w-mr-kyle-dean-smith/2025-07-02/
LOCATION:AJAM House\, 360 North Main Street\, Sparta\, NC\, 28675\, United States
CATEGORIES:Adult Classes,Adults,Class
ATTACH;FMTTYPE=image/png:https://alleghanyjam.com/wp-content/uploads/2025/05/Screenshot-2025-05-20-at-1.13.48 PM.png
END:VEVENT
BEGIN:VEVENT
DTSTART;TZID=America/New_York:20250701T180000
DTEND;TZID=America/New_York:20250701T193000
DTSTAMP:20260423T130739
CREATED:20250422T143729Z
LAST-MODIFIED:20250422T143729Z
UID:10004355-1751392800-1751398200@alleghanyjam.com
SUMMARY:Tuesday Night Jam!
DESCRIPTION:Dust off your instruments and join us for an old-time jam! Jack Cahn\, our amazing volunteer and board member\, will be leading the fun. All skill levels are welcome to this friendly and FREE weekly jam session. Come make some music with us!
URL:https://alleghanyjam.com/event/tuesday-night-jam-3/2025-07-01/
LOCATION:AJAM House\, 360 North Main Street\, Sparta\, NC\, 28675\, United States
CATEGORIES:Adults,Jam,Jams,Jams,Kids
ATTACH;FMTTYPE=image/png:https://alleghanyjam.com/wp-content/uploads/2025/03/All-Tuesday-Jams.png
END:VEVENT
BEGIN:VEVENT
DTSTART;TZID=America/New_York:20250701T174500
DTEND;TZID=America/New_York:20250701T183000
DTSTAMP:20260423T130739
CREATED:20250423T135223Z
LAST-MODIFIED:20250423T135223Z
UID:10004645-1751391900-1751394600@alleghanyjam.com
SUMMARY:Summer Adult Class - Intermediate Fiddle w/ Mr. Lucas Pasley
DESCRIPTION:
URL:https://alleghanyjam.com/event/summer-adult-class-intermediate-fiddle-w-mr-lucas-pasley/2025-07-01/
LOCATION:AJAM House\, 360 North Main Street\, Sparta\, NC\, 28675\, United States
CATEGORIES:Adult Classes,Adults,Class
ATTACH;FMTTYPE=image/png:https://alleghanyjam.com/wp-content/uploads/2025/04/2025-Spring-Adult-Classes-w-images-1-e1745416282346.png
END:VEVENT
BEGIN:VEVENT
DTSTART;TZID=America/New_York:20250701T170000
DTEND;TZID=America/New_York:20250701T174500
DTSTAMP:20260423T130739
CREATED:20250423T135129Z
LAST-MODIFIED:20250423T135129Z
UID:10004633-1751389200-1751391900@alleghanyjam.com
SUMMARY:Summer Adult Class - Beginner Fiddle w/ Mr. Lucas Pasley
DESCRIPTION:
URL:https://alleghanyjam.com/event/summer-adult-class-beginner-fiddle-w-mr-lucas-pasley/2025-07-01/
LOCATION:AJAM House\, 360 North Main Street\, Sparta\, NC\, 28675\, United States
CATEGORIES:Adult Classes,Adults,Class
ATTACH;FMTTYPE=image/png:https://alleghanyjam.com/wp-content/uploads/2025/04/2025-Spring-Adult-Classes-w-images-1-e1745416282346.png
END:VEVENT
BEGIN:VEVENT
DTSTART;TZID=America/New_York:20250630T180000
DTEND;TZID=America/New_York:20250630T193000
DTSTAMP:20260423T130739
CREATED:20250423T135500Z
LAST-MODIFIED:20250520T165449Z
UID:10004657-1751306400-1751311800@alleghanyjam.com
SUMMARY:Summer Adult Intermediate String Band - w/ Ms. Emily Spencer
DESCRIPTION:
URL:https://alleghanyjam.com/event/summer-adult-intermediate-string-band-w-ms-emily-spencer/2025-06-30/
LOCATION:AJAM House\, 360 North Main Street\, Sparta\, NC\, 28675\, United States
CATEGORIES:Adult Classes,Adults,Class
ATTACH;FMTTYPE=image/png:https://alleghanyjam.com/wp-content/uploads/2025/04/2025-Spring-Adult-Classes-w-images-2-e1745416462553.png
END:VEVENT
BEGIN:VEVENT
DTSTART;TZID=America/New_York:20250630T170000
DTEND;TZID=America/New_York:20250630T180000
DTSTAMP:20260423T130739
CREATED:20250520T170413Z
LAST-MODIFIED:20250616T171811Z
UID:10004707-1751302800-1751306400@alleghanyjam.com
SUMMARY:Summer Class (All Ages Welcome!) - Beginner Dulcimer with Ms. Emily Spencer
DESCRIPTION:
URL:https://alleghanyjam.com/event/summer-class-all-ages-welcome-beginner-dulcimer-with-ms-emily-spencer/2025-06-30/
LOCATION:AJAM House\, 360 North Main Street\, Sparta\, NC\, 28675\, United States
CATEGORIES:Adult Classes,Adults,Class,Kids
ATTACH;FMTTYPE=image/png:https://alleghanyjam.com/wp-content/uploads/2025/04/2025-Spring-Adult-Classes-w-images-2-e1745416462553.png
END:VEVENT
BEGIN:VEVENT
DTSTART;TZID=America/New_York:20250625T170000
DTEND;TZID=America/New_York:20250625T180000
DTSTAMP:20260423T130739
CREATED:20250423T134726Z
LAST-MODIFIED:20250520T171923Z
UID:10004663-1750870800-1750874400@alleghanyjam.com
SUMMARY:Summer Adult Class - Beginner Guitar w/ Mr. Kyle Dean Smith
DESCRIPTION:
URL:https://alleghanyjam.com/event/summer-adult-class-beginner-guitar-w-mr-kyle-dean-smith/2025-06-25/
LOCATION:AJAM House\, 360 North Main Street\, Sparta\, NC\, 28675\, United States
CATEGORIES:Adult Classes,Adults,Class
ATTACH;FMTTYPE=image/png:https://alleghanyjam.com/wp-content/uploads/2025/05/Screenshot-2025-05-20-at-1.13.48 PM.png
END:VEVENT
BEGIN:VEVENT
DTSTART;TZID=America/New_York:20250624T180000
DTEND;TZID=America/New_York:20250624T193000
DTSTAMP:20260423T130739
CREATED:20250422T143729Z
LAST-MODIFIED:20250422T143729Z
UID:10004354-1750788000-1750793400@alleghanyjam.com
SUMMARY:Tuesday Night Jam!
DESCRIPTION:Dust off your instruments and join us for an old-time jam! Jack Cahn\, our amazing volunteer and board member\, will be leading the fun. All skill levels are welcome to this friendly and FREE weekly jam session. Come make some music with us!
URL:https://alleghanyjam.com/event/tuesday-night-jam-3/2025-06-24/
LOCATION:AJAM House\, 360 North Main Street\, Sparta\, NC\, 28675\, United States
CATEGORIES:Adults,Jam,Jams,Jams,Kids
ATTACH;FMTTYPE=image/png:https://alleghanyjam.com/wp-content/uploads/2025/03/All-Tuesday-Jams.png
END:VEVENT
BEGIN:VEVENT
DTSTART;TZID=America/New_York:20250624T174500
DTEND;TZID=America/New_York:20250624T183000
DTSTAMP:20260423T130739
CREATED:20250423T135223Z
LAST-MODIFIED:20250423T135223Z
UID:10004644-1750787100-1750789800@alleghanyjam.com
SUMMARY:Summer Adult Class - Intermediate Fiddle w/ Mr. Lucas Pasley
DESCRIPTION:
URL:https://alleghanyjam.com/event/summer-adult-class-intermediate-fiddle-w-mr-lucas-pasley/2025-06-24/
LOCATION:AJAM House\, 360 North Main Street\, Sparta\, NC\, 28675\, United States
CATEGORIES:Adult Classes,Adults,Class
ATTACH;FMTTYPE=image/png:https://alleghanyjam.com/wp-content/uploads/2025/04/2025-Spring-Adult-Classes-w-images-1-e1745416282346.png
END:VEVENT
BEGIN:VEVENT
DTSTART;TZID=America/New_York:20250624T170000
DTEND;TZID=America/New_York:20250624T174500
DTSTAMP:20260423T130739
CREATED:20250423T135129Z
LAST-MODIFIED:20250423T135129Z
UID:10004632-1750784400-1750787100@alleghanyjam.com
SUMMARY:Summer Adult Class - Beginner Fiddle w/ Mr. Lucas Pasley
DESCRIPTION:
URL:https://alleghanyjam.com/event/summer-adult-class-beginner-fiddle-w-mr-lucas-pasley/2025-06-24/
LOCATION:AJAM House\, 360 North Main Street\, Sparta\, NC\, 28675\, United States
CATEGORIES:Adult Classes,Adults,Class
ATTACH;FMTTYPE=image/png:https://alleghanyjam.com/wp-content/uploads/2025/04/2025-Spring-Adult-Classes-w-images-1-e1745416282346.png
END:VEVENT
BEGIN:VEVENT
DTSTART;TZID=America/New_York:20250623T180000
DTEND;TZID=America/New_York:20250623T193000
DTSTAMP:20260423T130739
CREATED:20250423T135500Z
LAST-MODIFIED:20250520T165449Z
UID:10004656-1750701600-1750707000@alleghanyjam.com
SUMMARY:Summer Adult Intermediate String Band - w/ Ms. Emily Spencer
DESCRIPTION:
URL:https://alleghanyjam.com/event/summer-adult-intermediate-string-band-w-ms-emily-spencer/2025-06-23/
LOCATION:AJAM House\, 360 North Main Street\, Sparta\, NC\, 28675\, United States
CATEGORIES:Adult Classes,Adults,Class
ATTACH;FMTTYPE=image/png:https://alleghanyjam.com/wp-content/uploads/2025/04/2025-Spring-Adult-Classes-w-images-2-e1745416462553.png
END:VEVENT
BEGIN:VEVENT
DTSTART;TZID=America/New_York:20250623T170000
DTEND;TZID=America/New_York:20250623T180000
DTSTAMP:20260423T130739
CREATED:20250520T170413Z
LAST-MODIFIED:20250616T171811Z
UID:10004706-1750698000-1750701600@alleghanyjam.com
SUMMARY:Summer Class (All Ages Welcome!) - Beginner Dulcimer with Ms. Emily Spencer
DESCRIPTION:
URL:https://alleghanyjam.com/event/summer-class-all-ages-welcome-beginner-dulcimer-with-ms-emily-spencer/2025-06-23/
LOCATION:AJAM House\, 360 North Main Street\, Sparta\, NC\, 28675\, United States
CATEGORIES:Adult Classes,Adults,Class,Kids
ATTACH;FMTTYPE=image/png:https://alleghanyjam.com/wp-content/uploads/2025/04/2025-Spring-Adult-Classes-w-images-2-e1745416462553.png
END:VEVENT
BEGIN:VEVENT
DTSTART;TZID=America/New_York:20250622T140000
DTEND;TZID=America/New_York:20250622T153000
DTSTAMP:20260423T130739
CREATED:20250617T141812Z
LAST-MODIFIED:20250617T141812Z
UID:10004711-1750600800-1750606200@alleghanyjam.com
SUMMARY:The History of Old-Time Music with Ellie Kirby and Lucas Pasley
DESCRIPTION:The History of Old Time Music\, by Ellie Kirby and Lucas Pasley\, will take place this coming Sunday\, June 22\, at 2 pm in the AJAM House performance room. Free for all\, donations gladly accepted. This will end in an old-time jam! Please bring a friend and join us!
URL:https://alleghanyjam.com/event/the-history-of-old-time-music-with-ellie-kirby-and-lucas-pasley/
LOCATION:AJAM House\, 360 North Main Street\, Sparta\, NC\, 28675\, United States
ATTACH;FMTTYPE=image/png:https://alleghanyjam.com/wp-content/uploads/2025/06/Ellie-Workshop.png
END:VEVENT
BEGIN:VEVENT
DTSTART;TZID=America/New_York:20250618T170000
DTEND;TZID=America/New_York:20250618T180000
DTSTAMP:20260423T130739
CREATED:20250423T134726Z
LAST-MODIFIED:20250520T171923Z
UID:10004662-1750266000-1750269600@alleghanyjam.com
SUMMARY:Summer Adult Class - Beginner Guitar w/ Mr. Kyle Dean Smith
DESCRIPTION:
URL:https://alleghanyjam.com/event/summer-adult-class-beginner-guitar-w-mr-kyle-dean-smith/2025-06-18/
LOCATION:AJAM House\, 360 North Main Street\, Sparta\, NC\, 28675\, United States
CATEGORIES:Adult Classes,Adults,Class
ATTACH;FMTTYPE=image/png:https://alleghanyjam.com/wp-content/uploads/2025/05/Screenshot-2025-05-20-at-1.13.48 PM.png
END:VEVENT
BEGIN:VEVENT
DTSTART;TZID=America/New_York:20250617T180000
DTEND;TZID=America/New_York:20250617T193000
DTSTAMP:20260423T130739
CREATED:20250422T143729Z
LAST-MODIFIED:20250422T143729Z
UID:10004353-1750183200-1750188600@alleghanyjam.com
SUMMARY:Tuesday Night Jam!
DESCRIPTION:Dust off your instruments and join us for an old-time jam! Jack Cahn\, our amazing volunteer and board member\, will be leading the fun. All skill levels are welcome to this friendly and FREE weekly jam session. Come make some music with us!
URL:https://alleghanyjam.com/event/tuesday-night-jam-3/2025-06-17/
LOCATION:AJAM House\, 360 North Main Street\, Sparta\, NC\, 28675\, United States
CATEGORIES:Adults,Jam,Jams,Jams,Kids
ATTACH;FMTTYPE=image/png:https://alleghanyjam.com/wp-content/uploads/2025/03/All-Tuesday-Jams.png
END:VEVENT
BEGIN:VEVENT
DTSTART;TZID=America/New_York:20250617T180000
DTEND;TZID=America/New_York:20250617T193000
DTSTAMP:20260423T130739
CREATED:20250409T204204Z
LAST-MODIFIED:20250616T171617Z
UID:10004059-1750183200-1750188600@alleghanyjam.com
SUMMARY:NO Tuesday Night Jam!
DESCRIPTION:THERE IS NO OLD-TIME JAM THIS EVENING! \n— \nDust off your instruments and join us for an old-time jam! Jack Cahn\, our amazing volunteer and board member\, will be leading the fun. All skill levels are welcome to this friendly and FREE weekly jam session. Come make some music with us!
URL:https://alleghanyjam.com/event/tuesday-night-jam-2-2/
LOCATION:AJAM House\, 360 North Main Street\, Sparta\, NC\, 28675\, United States
CATEGORIES:Adults,Jam,Jams,Jams,Kids
ATTACH;FMTTYPE=image/jpeg:https://alleghanyjam.com/wp-content/uploads/2025/04/take-notes-icon-1-870232742.jpg
END:VEVENT
BEGIN:VEVENT
DTSTART;TZID=America/New_York:20250617T174500
DTEND;TZID=America/New_York:20250617T183000
DTSTAMP:20260423T130739
CREATED:20250423T135223Z
LAST-MODIFIED:20250423T135223Z
UID:10004643-1750182300-1750185000@alleghanyjam.com
SUMMARY:Summer Adult Class - Intermediate Fiddle w/ Mr. Lucas Pasley
DESCRIPTION:
URL:https://alleghanyjam.com/event/summer-adult-class-intermediate-fiddle-w-mr-lucas-pasley/2025-06-17/
LOCATION:AJAM House\, 360 North Main Street\, Sparta\, NC\, 28675\, United States
CATEGORIES:Adult Classes,Adults,Class
ATTACH;FMTTYPE=image/png:https://alleghanyjam.com/wp-content/uploads/2025/04/2025-Spring-Adult-Classes-w-images-1-e1745416282346.png
END:VEVENT
BEGIN:VEVENT
DTSTART;TZID=America/New_York:20250617T170000
DTEND;TZID=America/New_York:20250617T174500
DTSTAMP:20260423T130739
CREATED:20250423T135129Z
LAST-MODIFIED:20250423T135129Z
UID:10004631-1750179600-1750182300@alleghanyjam.com
SUMMARY:Summer Adult Class - Beginner Fiddle w/ Mr. Lucas Pasley
DESCRIPTION:
URL:https://alleghanyjam.com/event/summer-adult-class-beginner-fiddle-w-mr-lucas-pasley/2025-06-17/
LOCATION:AJAM House\, 360 North Main Street\, Sparta\, NC\, 28675\, United States
CATEGORIES:Adult Classes,Adults,Class
ATTACH;FMTTYPE=image/png:https://alleghanyjam.com/wp-content/uploads/2025/04/2025-Spring-Adult-Classes-w-images-1-e1745416282346.png
END:VEVENT
BEGIN:VEVENT
DTSTART;TZID=America/New_York:20250616T180000
DTEND;TZID=America/New_York:20250616T193000
DTSTAMP:20260423T130739
CREATED:20250423T135500Z
LAST-MODIFIED:20250520T165449Z
UID:10004655-1750096800-1750102200@alleghanyjam.com
SUMMARY:Summer Adult Intermediate String Band - w/ Ms. Emily Spencer
DESCRIPTION:
URL:https://alleghanyjam.com/event/summer-adult-intermediate-string-band-w-ms-emily-spencer/2025-06-16/
LOCATION:AJAM House\, 360 North Main Street\, Sparta\, NC\, 28675\, United States
CATEGORIES:Adult Classes,Adults,Class
ATTACH;FMTTYPE=image/png:https://alleghanyjam.com/wp-content/uploads/2025/04/2025-Spring-Adult-Classes-w-images-2-e1745416462553.png
END:VEVENT
BEGIN:VEVENT
DTSTART;TZID=America/New_York:20250616T170000
DTEND;TZID=America/New_York:20250616T180000
DTSTAMP:20260423T130739
CREATED:20250520T170413Z
LAST-MODIFIED:20250616T171811Z
UID:10004705-1750093200-1750096800@alleghanyjam.com
SUMMARY:Summer Class (All Ages Welcome!) - Beginner Dulcimer with Ms. Emily Spencer
DESCRIPTION:
URL:https://alleghanyjam.com/event/summer-class-all-ages-welcome-beginner-dulcimer-with-ms-emily-spencer/2025-06-16/
LOCATION:AJAM House\, 360 North Main Street\, Sparta\, NC\, 28675\, United States
CATEGORIES:Adult Classes,Adults,Class,Kids
ATTACH;FMTTYPE=image/png:https://alleghanyjam.com/wp-content/uploads/2025/04/2025-Spring-Adult-Classes-w-images-2-e1745416462553.png
END:VEVENT
BEGIN:VEVENT
DTSTART;TZID=America/New_York:20250611T170000
DTEND;TZID=America/New_York:20250611T180000
DTSTAMP:20260423T130739
CREATED:20250423T134726Z
LAST-MODIFIED:20250520T171923Z
UID:10004661-1749661200-1749664800@alleghanyjam.com
SUMMARY:Summer Adult Class - Beginner Guitar w/ Mr. Kyle Dean Smith
DESCRIPTION:
URL:https://alleghanyjam.com/event/summer-adult-class-beginner-guitar-w-mr-kyle-dean-smith/2025-06-11/
LOCATION:AJAM House\, 360 North Main Street\, Sparta\, NC\, 28675\, United States
CATEGORIES:Adult Classes,Adults,Class
ATTACH;FMTTYPE=image/png:https://alleghanyjam.com/wp-content/uploads/2025/05/Screenshot-2025-05-20-at-1.13.48 PM.png
END:VEVENT
BEGIN:VEVENT
DTSTART;TZID=America/New_York:20250610T180000
DTEND;TZID=America/New_York:20250610T193000
DTSTAMP:20260423T130739
CREATED:20250422T143729Z
LAST-MODIFIED:20250422T143729Z
UID:10004352-1749578400-1749583800@alleghanyjam.com
SUMMARY:Tuesday Night Jam!
DESCRIPTION:Dust off your instruments and join us for an old-time jam! Jack Cahn\, our amazing volunteer and board member\, will be leading the fun. All skill levels are welcome to this friendly and FREE weekly jam session. Come make some music with us!
URL:https://alleghanyjam.com/event/tuesday-night-jam-3/2025-06-10/
LOCATION:AJAM House\, 360 North Main Street\, Sparta\, NC\, 28675\, United States
CATEGORIES:Adults,Jam,Jams,Jams,Kids
ATTACH;FMTTYPE=image/png:https://alleghanyjam.com/wp-content/uploads/2025/03/All-Tuesday-Jams.png
END:VEVENT
END:VCALENDAR