BEGIN:VCALENDAR
VERSION:2.0
PRODID:-//Alleghany Jam - ECPv6.15.20//NONSGML v1.0//EN
CALSCALE:GREGORIAN
METHOD:PUBLISH
X-ORIGINAL-URL:https://alleghanyjam.com
X-WR-CALDESC:Events for Alleghany Jam
REFRESH-INTERVAL;VALUE=DURATION:PT1H
X-Robots-Tag:noindex
X-PUBLISHED-TTL:PT1H
BEGIN:VTIMEZONE
TZID:America/New_York
BEGIN:DAYLIGHT
TZOFFSETFROM:-0500
TZOFFSETTO:-0400
TZNAME:EDT
DTSTART:20240310T070000
END:DAYLIGHT
BEGIN:STANDARD
TZOFFSETFROM:-0400
TZOFFSETTO:-0500
TZNAME:EST
DTSTART:20241103T060000
END:STANDARD
BEGIN:DAYLIGHT
TZOFFSETFROM:-0500
TZOFFSETTO:-0400
TZNAME:EDT
DTSTART:20250309T070000
END:DAYLIGHT
BEGIN:STANDARD
TZOFFSETFROM:-0400
TZOFFSETTO:-0500
TZNAME:EST
DTSTART:20251102T060000
END:STANDARD
BEGIN:DAYLIGHT
TZOFFSETFROM:-0500
TZOFFSETTO:-0400
TZNAME:EDT
DTSTART:20260308T070000
END:DAYLIGHT
BEGIN:STANDARD
TZOFFSETFROM:-0400
TZOFFSETTO:-0500
TZNAME:EST
DTSTART:20261101T060000
END:STANDARD
END:VTIMEZONE
BEGIN:VEVENT
DTSTART;TZID=America/New_York:20250617T174500
DTEND;TZID=America/New_York:20250617T183000
DTSTAMP:20260423T160324
CREATED:20250423T135223Z
LAST-MODIFIED:20250423T135223Z
UID:10004643-1750182300-1750185000@alleghanyjam.com
SUMMARY:Summer Adult Class - Intermediate Fiddle w/ Mr. Lucas Pasley
DESCRIPTION:
URL:https://alleghanyjam.com/event/summer-adult-class-intermediate-fiddle-w-mr-lucas-pasley/2025-06-17/
LOCATION:AJAM House\, 360 North Main Street\, Sparta\, NC\, 28675\, United States
CATEGORIES:Adult Classes,Adults,Class
ATTACH;FMTTYPE=image/png:https://alleghanyjam.com/wp-content/uploads/2025/04/2025-Spring-Adult-Classes-w-images-1-e1745416282346.png
END:VEVENT
BEGIN:VEVENT
DTSTART;TZID=America/New_York:20250617T170000
DTEND;TZID=America/New_York:20250617T174500
DTSTAMP:20260423T160324
CREATED:20250423T135129Z
LAST-MODIFIED:20250423T135129Z
UID:10004631-1750179600-1750182300@alleghanyjam.com
SUMMARY:Summer Adult Class - Beginner Fiddle w/ Mr. Lucas Pasley
DESCRIPTION:
URL:https://alleghanyjam.com/event/summer-adult-class-beginner-fiddle-w-mr-lucas-pasley/2025-06-17/
LOCATION:AJAM House\, 360 North Main Street\, Sparta\, NC\, 28675\, United States
CATEGORIES:Adult Classes,Adults,Class
ATTACH;FMTTYPE=image/png:https://alleghanyjam.com/wp-content/uploads/2025/04/2025-Spring-Adult-Classes-w-images-1-e1745416282346.png
END:VEVENT
BEGIN:VEVENT
DTSTART;TZID=America/New_York:20250616T180000
DTEND;TZID=America/New_York:20250616T193000
DTSTAMP:20260423T160324
CREATED:20250423T135500Z
LAST-MODIFIED:20250520T165449Z
UID:10004655-1750096800-1750102200@alleghanyjam.com
SUMMARY:Summer Adult Intermediate String Band - w/ Ms. Emily Spencer
DESCRIPTION:
URL:https://alleghanyjam.com/event/summer-adult-intermediate-string-band-w-ms-emily-spencer/2025-06-16/
LOCATION:AJAM House\, 360 North Main Street\, Sparta\, NC\, 28675\, United States
CATEGORIES:Adult Classes,Adults,Class
ATTACH;FMTTYPE=image/png:https://alleghanyjam.com/wp-content/uploads/2025/04/2025-Spring-Adult-Classes-w-images-2-e1745416462553.png
END:VEVENT
BEGIN:VEVENT
DTSTART;TZID=America/New_York:20250616T170000
DTEND;TZID=America/New_York:20250616T180000
DTSTAMP:20260423T160324
CREATED:20250520T170413Z
LAST-MODIFIED:20250616T171811Z
UID:10004705-1750093200-1750096800@alleghanyjam.com
SUMMARY:Summer Class (All Ages Welcome!) - Beginner Dulcimer with Ms. Emily Spencer
DESCRIPTION:
URL:https://alleghanyjam.com/event/summer-class-all-ages-welcome-beginner-dulcimer-with-ms-emily-spencer/2025-06-16/
LOCATION:AJAM House\, 360 North Main Street\, Sparta\, NC\, 28675\, United States
CATEGORIES:Adult Classes,Adults,Class,Kids
ATTACH;FMTTYPE=image/png:https://alleghanyjam.com/wp-content/uploads/2025/04/2025-Spring-Adult-Classes-w-images-2-e1745416462553.png
END:VEVENT
BEGIN:VEVENT
DTSTART;TZID=America/New_York:20250611T170000
DTEND;TZID=America/New_York:20250611T180000
DTSTAMP:20260423T160324
CREATED:20250423T134726Z
LAST-MODIFIED:20250520T171923Z
UID:10004661-1749661200-1749664800@alleghanyjam.com
SUMMARY:Summer Adult Class - Beginner Guitar w/ Mr. Kyle Dean Smith
DESCRIPTION:
URL:https://alleghanyjam.com/event/summer-adult-class-beginner-guitar-w-mr-kyle-dean-smith/2025-06-11/
LOCATION:AJAM House\, 360 North Main Street\, Sparta\, NC\, 28675\, United States
CATEGORIES:Adult Classes,Adults,Class
ATTACH;FMTTYPE=image/png:https://alleghanyjam.com/wp-content/uploads/2025/05/Screenshot-2025-05-20-at-1.13.48 PM.png
END:VEVENT
BEGIN:VEVENT
DTSTART;TZID=America/New_York:20250610T180000
DTEND;TZID=America/New_York:20250610T193000
DTSTAMP:20260423T160324
CREATED:20250422T143729Z
LAST-MODIFIED:20250422T143729Z
UID:10004352-1749578400-1749583800@alleghanyjam.com
SUMMARY:Tuesday Night Jam!
DESCRIPTION:Dust off your instruments and join us for an old-time jam! Jack Cahn\, our amazing volunteer and board member\, will be leading the fun. All skill levels are welcome to this friendly and FREE weekly jam session. Come make some music with us!
URL:https://alleghanyjam.com/event/tuesday-night-jam-3/2025-06-10/
LOCATION:AJAM House\, 360 North Main Street\, Sparta\, NC\, 28675\, United States
CATEGORIES:Adults,Jam,Jams,Jams,Kids
ATTACH;FMTTYPE=image/png:https://alleghanyjam.com/wp-content/uploads/2025/03/All-Tuesday-Jams.png
END:VEVENT
BEGIN:VEVENT
DTSTART;TZID=America/New_York:20250610T174500
DTEND;TZID=America/New_York:20250610T183000
DTSTAMP:20260423T160324
CREATED:20250423T135223Z
LAST-MODIFIED:20250423T135223Z
UID:10004642-1749577500-1749580200@alleghanyjam.com
SUMMARY:Summer Adult Class - Intermediate Fiddle w/ Mr. Lucas Pasley
DESCRIPTION:
URL:https://alleghanyjam.com/event/summer-adult-class-intermediate-fiddle-w-mr-lucas-pasley/2025-06-10/
LOCATION:AJAM House\, 360 North Main Street\, Sparta\, NC\, 28675\, United States
CATEGORIES:Adult Classes,Adults,Class
ATTACH;FMTTYPE=image/png:https://alleghanyjam.com/wp-content/uploads/2025/04/2025-Spring-Adult-Classes-w-images-1-e1745416282346.png
END:VEVENT
BEGIN:VEVENT
DTSTART;TZID=America/New_York:20250610T170000
DTEND;TZID=America/New_York:20250610T174500
DTSTAMP:20260423T160324
CREATED:20250423T135129Z
LAST-MODIFIED:20250423T135129Z
UID:10004630-1749574800-1749577500@alleghanyjam.com
SUMMARY:Summer Adult Class - Beginner Fiddle w/ Mr. Lucas Pasley
DESCRIPTION:
URL:https://alleghanyjam.com/event/summer-adult-class-beginner-fiddle-w-mr-lucas-pasley/2025-06-10/
LOCATION:AJAM House\, 360 North Main Street\, Sparta\, NC\, 28675\, United States
CATEGORIES:Adult Classes,Adults,Class
ATTACH;FMTTYPE=image/png:https://alleghanyjam.com/wp-content/uploads/2025/04/2025-Spring-Adult-Classes-w-images-1-e1745416282346.png
END:VEVENT
BEGIN:VEVENT
DTSTART;TZID=America/New_York:20250609T180000
DTEND;TZID=America/New_York:20250609T193000
DTSTAMP:20260423T160324
CREATED:20250423T135500Z
LAST-MODIFIED:20250520T165449Z
UID:10004654-1749492000-1749497400@alleghanyjam.com
SUMMARY:Summer Adult Intermediate String Band - w/ Ms. Emily Spencer
DESCRIPTION:
URL:https://alleghanyjam.com/event/summer-adult-intermediate-string-band-w-ms-emily-spencer/2025-06-09/
LOCATION:AJAM House\, 360 North Main Street\, Sparta\, NC\, 28675\, United States
CATEGORIES:Adult Classes,Adults,Class
ATTACH;FMTTYPE=image/png:https://alleghanyjam.com/wp-content/uploads/2025/04/2025-Spring-Adult-Classes-w-images-2-e1745416462553.png
END:VEVENT
BEGIN:VEVENT
DTSTART;TZID=America/New_York:20250609T163000
DTEND;TZID=America/New_York:20250609T173000
DTSTAMP:20260423T160324
CREATED:20250520T170413Z
LAST-MODIFIED:20250616T171811Z
UID:10004704-1749486600-1749490200@alleghanyjam.com
SUMMARY:Summer Class (All Ages Welcome!) - Beginner Dulcimer with Ms. Emily Spencer
DESCRIPTION:
URL:https://alleghanyjam.com/event/summer-class-all-ages-welcome-beginner-dulcimer-with-ms-emily-spencer/2025-06-09/
LOCATION:AJAM House\, 360 North Main Street\, Sparta\, NC\, 28675\, United States
CATEGORIES:Adult Classes,Adults,Class,Kids
ATTACH;FMTTYPE=image/png:https://alleghanyjam.com/wp-content/uploads/2025/04/2025-Spring-Adult-Classes-w-images-2-e1745416462553.png
END:VEVENT
BEGIN:VEVENT
DTSTART;TZID=America/New_York:20250604T170000
DTEND;TZID=America/New_York:20250604T180000
DTSTAMP:20260423T160324
CREATED:20250423T134726Z
LAST-MODIFIED:20250520T171923Z
UID:10004660-1749056400-1749060000@alleghanyjam.com
SUMMARY:Summer Adult Class - Beginner Guitar w/ Mr. Kyle Dean Smith
DESCRIPTION:
URL:https://alleghanyjam.com/event/summer-adult-class-beginner-guitar-w-mr-kyle-dean-smith/2025-06-04/
LOCATION:AJAM House\, 360 North Main Street\, Sparta\, NC\, 28675\, United States
CATEGORIES:Adult Classes,Adults,Class
ATTACH;FMTTYPE=image/png:https://alleghanyjam.com/wp-content/uploads/2025/05/Screenshot-2025-05-20-at-1.13.48 PM.png
END:VEVENT
BEGIN:VEVENT
DTSTART;TZID=America/New_York:20250603T180000
DTEND;TZID=America/New_York:20250603T193000
DTSTAMP:20260423T160324
CREATED:20250422T143729Z
LAST-MODIFIED:20250422T143729Z
UID:10004351-1748973600-1748979000@alleghanyjam.com
SUMMARY:Tuesday Night Jam!
DESCRIPTION:Dust off your instruments and join us for an old-time jam! Jack Cahn\, our amazing volunteer and board member\, will be leading the fun. All skill levels are welcome to this friendly and FREE weekly jam session. Come make some music with us!
URL:https://alleghanyjam.com/event/tuesday-night-jam-3/2025-06-03/
LOCATION:AJAM House\, 360 North Main Street\, Sparta\, NC\, 28675\, United States
CATEGORIES:Adults,Jam,Jams,Jams,Kids
ATTACH;FMTTYPE=image/png:https://alleghanyjam.com/wp-content/uploads/2025/03/All-Tuesday-Jams.png
END:VEVENT
BEGIN:VEVENT
DTSTART;TZID=America/New_York:20250603T174500
DTEND;TZID=America/New_York:20250603T183000
DTSTAMP:20260423T160324
CREATED:20250423T135223Z
LAST-MODIFIED:20250423T135223Z
UID:10004641-1748972700-1748975400@alleghanyjam.com
SUMMARY:Summer Adult Class - Intermediate Fiddle w/ Mr. Lucas Pasley
DESCRIPTION:
URL:https://alleghanyjam.com/event/summer-adult-class-intermediate-fiddle-w-mr-lucas-pasley/2025-06-03/
LOCATION:AJAM House\, 360 North Main Street\, Sparta\, NC\, 28675\, United States
CATEGORIES:Adult Classes,Adults,Class
ATTACH;FMTTYPE=image/png:https://alleghanyjam.com/wp-content/uploads/2025/04/2025-Spring-Adult-Classes-w-images-1-e1745416282346.png
END:VEVENT
BEGIN:VEVENT
DTSTART;TZID=America/New_York:20250603T170000
DTEND;TZID=America/New_York:20250603T174500
DTSTAMP:20260423T160324
CREATED:20250423T135129Z
LAST-MODIFIED:20250423T135129Z
UID:10004629-1748970000-1748972700@alleghanyjam.com
SUMMARY:Summer Adult Class - Beginner Fiddle w/ Mr. Lucas Pasley
DESCRIPTION:
URL:https://alleghanyjam.com/event/summer-adult-class-beginner-fiddle-w-mr-lucas-pasley/2025-06-03/
LOCATION:AJAM House\, 360 North Main Street\, Sparta\, NC\, 28675\, United States
CATEGORIES:Adult Classes,Adults,Class
ATTACH;FMTTYPE=image/png:https://alleghanyjam.com/wp-content/uploads/2025/04/2025-Spring-Adult-Classes-w-images-1-e1745416282346.png
END:VEVENT
BEGIN:VEVENT
DTSTART;TZID=America/New_York:20250527T180000
DTEND;TZID=America/New_York:20250527T193000
DTSTAMP:20260423T160324
CREATED:20250422T143729Z
LAST-MODIFIED:20250422T143729Z
UID:10004350-1748368800-1748374200@alleghanyjam.com
SUMMARY:Tuesday Night Jam!
DESCRIPTION:Dust off your instruments and join us for an old-time jam! Jack Cahn\, our amazing volunteer and board member\, will be leading the fun. All skill levels are welcome to this friendly and FREE weekly jam session. Come make some music with us!
URL:https://alleghanyjam.com/event/tuesday-night-jam-3/2025-05-27/
LOCATION:AJAM House\, 360 North Main Street\, Sparta\, NC\, 28675\, United States
CATEGORIES:Adults,Jam,Jams,Jams,Kids
ATTACH;FMTTYPE=image/png:https://alleghanyjam.com/wp-content/uploads/2025/03/All-Tuesday-Jams.png
END:VEVENT
BEGIN:VEVENT
DTSTART;TZID=America/New_York:20250520T180000
DTEND;TZID=America/New_York:20250520T193000
DTSTAMP:20260423T160324
CREATED:20250422T143729Z
LAST-MODIFIED:20250422T143729Z
UID:10004349-1747764000-1747769400@alleghanyjam.com
SUMMARY:Tuesday Night Jam!
DESCRIPTION:Dust off your instruments and join us for an old-time jam! Jack Cahn\, our amazing volunteer and board member\, will be leading the fun. All skill levels are welcome to this friendly and FREE weekly jam session. Come make some music with us!
URL:https://alleghanyjam.com/event/tuesday-night-jam-3/2025-05-20/
LOCATION:AJAM House\, 360 North Main Street\, Sparta\, NC\, 28675\, United States
CATEGORIES:Adults,Jam,Jams,Jams,Kids
ATTACH;FMTTYPE=image/png:https://alleghanyjam.com/wp-content/uploads/2025/03/All-Tuesday-Jams.png
END:VEVENT
BEGIN:VEVENT
DTSTART;TZID=America/New_York:20250513T180000
DTEND;TZID=America/New_York:20250513T193000
DTSTAMP:20260423T160324
CREATED:20250422T143729Z
LAST-MODIFIED:20250422T143729Z
UID:10004348-1747159200-1747164600@alleghanyjam.com
SUMMARY:Tuesday Night Jam!
DESCRIPTION:Dust off your instruments and join us for an old-time jam! Jack Cahn\, our amazing volunteer and board member\, will be leading the fun. All skill levels are welcome to this friendly and FREE weekly jam session. Come make some music with us!
URL:https://alleghanyjam.com/event/tuesday-night-jam-3/2025-05-13/
LOCATION:AJAM House\, 360 North Main Street\, Sparta\, NC\, 28675\, United States
CATEGORIES:Adults,Jam,Jams,Jams,Kids
ATTACH;FMTTYPE=image/png:https://alleghanyjam.com/wp-content/uploads/2025/03/All-Tuesday-Jams.png
END:VEVENT
BEGIN:VEVENT
DTSTART;TZID=America/New_York:20250506T173000
DTEND;TZID=America/New_York:20250506T190000
DTSTAMP:20260423T160324
CREATED:20250123T023011Z
LAST-MODIFIED:20250407T215022Z
UID:10002905-1746552600-1746558000@alleghanyjam.com
SUMMARY:Appalachian Arts Performance
DESCRIPTION:Space is limited!
URL:https://alleghanyjam.com/event/appalachian-arts-performance/
LOCATION:AJAM House\, 360 North Main Street\, Sparta\, NC\, 28675\, United States
CATEGORIES:Events
ORGANIZER;CN="Kate Vermilyea":MAILTO:alleghanyjaminfo@gmail.com
END:VEVENT
BEGIN:VEVENT
DTSTART;TZID=America/New_York:20250429T180000
DTEND;TZID=America/New_York:20250429T193000
DTSTAMP:20260423T160324
CREATED:20250422T141447Z
LAST-MODIFIED:20250422T143308Z
UID:10004058-1745949600-1745955000@alleghanyjam.com
SUMMARY:Tuesday Night Jam!
DESCRIPTION:Dust off your instruments and join us for an old-time jam! Jack Cahn\, our amazing volunteer and board member\, will be leading the fun. All skill levels are welcome to this friendly and FREE weekly jam session. Come make some music with us!
URL:https://alleghanyjam.com/event/tuesday-night-jam-2-3/2025-04-29/
LOCATION:AJAM House\, 360 North Main Street\, Sparta\, NC\, 28675\, United States
CATEGORIES:Adults,Jam,Jams,Jams,Kids
ATTACH;FMTTYPE=image/png:https://alleghanyjam.com/wp-content/uploads/2025/03/All-Tuesday-Jams.png
END:VEVENT
BEGIN:VEVENT
DTSTART;TZID=America/New_York:20250429T174500
DTEND;TZID=America/New_York:20250429T184500
DTSTAMP:20260423T160324
CREATED:20250318T014735Z
LAST-MODIFIED:20250407T180221Z
UID:10004315-1745948700-1745952300@alleghanyjam.com
SUMMARY:Spring Adult Class - Intermediate Fiddle w/ Mr. Lucas Pasley
DESCRIPTION:
URL:https://alleghanyjam.com/event/spring-adult-class-intermediate-fiddle/2025-04-29/
LOCATION:AJAM House\, 360 North Main Street\, Sparta\, NC\, 28675\, United States
CATEGORIES:Adult Classes,Adults,Class
END:VEVENT
BEGIN:VEVENT
DTSTART;TZID=America/New_York:20250429T170000
DTEND;TZID=America/New_York:20250429T180000
DTSTAMP:20260423T160324
CREATED:20250207T225511Z
LAST-MODIFIED:20250407T182357Z
UID:10004339-1745946000-1745949600@alleghanyjam.com
SUMMARY:Spring Adult Class - Beginner Mandolin w/ Mr. Kyle Dean Smith
DESCRIPTION:
URL:https://alleghanyjam.com/event/spring-adult-classes-info-coming-soon/2025-04-29/
LOCATION:AJAM House\, 360 North Main Street\, Sparta\, NC\, 28675\, United States
CATEGORIES:Adult Classes,Adults,Class
END:VEVENT
BEGIN:VEVENT
DTSTART;TZID=America/New_York:20250429T170000
DTEND;TZID=America/New_York:20250429T174500
DTSTAMP:20260423T160324
CREATED:20250318T014406Z
LAST-MODIFIED:20250407T182200Z
UID:10004333-1745946000-1745948700@alleghanyjam.com
SUMMARY:Spring Adult Class - Beginner Fiddle w/ Mr. Lucas Pasley
DESCRIPTION:
URL:https://alleghanyjam.com/event/spring-adult-class-beginner-fiddle/2025-04-29/
LOCATION:AJAM House\, 360 North Main Street\, Sparta\, NC\, 28675\, United States
CATEGORIES:Adult Classes,Adults,Class
END:VEVENT
BEGIN:VEVENT
DTSTART;TZID=America/New_York:20250428T180000
DTEND;TZID=America/New_York:20250428T193000
DTSTAMP:20260423T160324
CREATED:20250318T015310Z
LAST-MODIFIED:20250407T175827Z
UID:10004000-1745863200-1745868600@alleghanyjam.com
SUMMARY:Adult Intermediate String Band - w/ Ms. Emily Spencer
DESCRIPTION:
URL:https://alleghanyjam.com/event/adult-intermediate-string-band-w-ms-emily-spencer/2025-04-28/
LOCATION:AJAM House\, 360 North Main Street\, Sparta\, NC\, 28675\, United States
CATEGORIES:Adult Classes,Adults,Class
END:VEVENT
BEGIN:VEVENT
DTSTART;TZID=America/New_York:20250422T180000
DTEND;TZID=America/New_York:20250422T193000
DTSTAMP:20260423T160324
CREATED:20250422T141447Z
LAST-MODIFIED:20250422T143308Z
UID:10004057-1745344800-1745350200@alleghanyjam.com
SUMMARY:Tuesday Night Jam!
DESCRIPTION:Dust off your instruments and join us for an old-time jam! Jack Cahn\, our amazing volunteer and board member\, will be leading the fun. All skill levels are welcome to this friendly and FREE weekly jam session. Come make some music with us!
URL:https://alleghanyjam.com/event/tuesday-night-jam-2-3/2025-04-22/
LOCATION:AJAM House\, 360 North Main Street\, Sparta\, NC\, 28675\, United States
CATEGORIES:Adults,Jam,Jams,Jams,Kids
ATTACH;FMTTYPE=image/png:https://alleghanyjam.com/wp-content/uploads/2025/03/All-Tuesday-Jams.png
END:VEVENT
BEGIN:VEVENT
DTSTART;TZID=America/New_York:20250422T174500
DTEND;TZID=America/New_York:20250422T184500
DTSTAMP:20260423T160324
CREATED:20250318T014735Z
LAST-MODIFIED:20250407T180221Z
UID:10003993-1745343900-1745347500@alleghanyjam.com
SUMMARY:Spring Adult Class - Intermediate Fiddle w/ Mr. Lucas Pasley
DESCRIPTION:
URL:https://alleghanyjam.com/event/spring-adult-class-intermediate-fiddle/2025-04-22/
LOCATION:AJAM House\, 360 North Main Street\, Sparta\, NC\, 28675\, United States
CATEGORIES:Adult Classes,Adults,Class
END:VEVENT
BEGIN:VEVENT
DTSTART;TZID=America/New_York:20250422T170000
DTEND;TZID=America/New_York:20250422T180000
DTSTAMP:20260423T160324
CREATED:20250207T225511Z
LAST-MODIFIED:20250407T182357Z
UID:10004338-1745341200-1745344800@alleghanyjam.com
SUMMARY:Spring Adult Class - Beginner Mandolin w/ Mr. Kyle Dean Smith
DESCRIPTION:
URL:https://alleghanyjam.com/event/spring-adult-classes-info-coming-soon/2025-04-22/
LOCATION:AJAM House\, 360 North Main Street\, Sparta\, NC\, 28675\, United States
CATEGORIES:Adult Classes,Adults,Class
END:VEVENT
BEGIN:VEVENT
DTSTART;TZID=America/New_York:20250422T170000
DTEND;TZID=America/New_York:20250422T174500
DTSTAMP:20260423T160324
CREATED:20250318T014406Z
LAST-MODIFIED:20250407T182200Z
UID:10004332-1745341200-1745343900@alleghanyjam.com
SUMMARY:Spring Adult Class - Beginner Fiddle w/ Mr. Lucas Pasley
DESCRIPTION:
URL:https://alleghanyjam.com/event/spring-adult-class-beginner-fiddle/2025-04-22/
LOCATION:AJAM House\, 360 North Main Street\, Sparta\, NC\, 28675\, United States
CATEGORIES:Adult Classes,Adults,Class
END:VEVENT
BEGIN:VEVENT
DTSTART;TZID=America/New_York:20250421T180000
DTEND;TZID=America/New_York:20250421T193000
DTSTAMP:20260423T160324
CREATED:20250318T015310Z
LAST-MODIFIED:20250407T175827Z
UID:10003999-1745258400-1745263800@alleghanyjam.com
SUMMARY:Adult Intermediate String Band - w/ Ms. Emily Spencer
DESCRIPTION:
URL:https://alleghanyjam.com/event/adult-intermediate-string-band-w-ms-emily-spencer/2025-04-21/
LOCATION:AJAM House\, 360 North Main Street\, Sparta\, NC\, 28675\, United States
CATEGORIES:Adult Classes,Adults,Class
END:VEVENT
BEGIN:VEVENT
DTSTART;TZID=America/New_York:20250415T180000
DTEND;TZID=America/New_York:20250415T193000
DTSTAMP:20260423T160324
CREATED:20250409T135717Z
LAST-MODIFIED:20250422T141006Z
UID:10004056-1744740000-1744745400@alleghanyjam.com
SUMMARY:Tuesday Night Jam!
DESCRIPTION:Dust off your instruments and join us for an old-time jam! Jack Cahn\, our amazing volunteer and board member\, will be leading the fun. All skill levels are welcome to this friendly and FREE weekly jam session. Come make some music with us!
URL:https://alleghanyjam.com/event/tuesday-night-jam-2/
LOCATION:AJAM House\, 360 North Main Street\, Sparta\, NC\, 28675\, United States
CATEGORIES:Adults,Jam,Jams,Jams,Kids
ATTACH;FMTTYPE=image/png:https://alleghanyjam.com/wp-content/uploads/2025/03/All-Tuesday-Jams.png
END:VEVENT
BEGIN:VEVENT
DTSTART;TZID=America/New_York:20250415T174500
DTEND;TZID=America/New_York:20250415T184500
DTSTAMP:20260423T160325
CREATED:20250318T014735Z
LAST-MODIFIED:20250407T180221Z
UID:10003992-1744739100-1744742700@alleghanyjam.com
SUMMARY:Spring Adult Class - Intermediate Fiddle w/ Mr. Lucas Pasley
DESCRIPTION:
URL:https://alleghanyjam.com/event/spring-adult-class-intermediate-fiddle/2025-04-15/
LOCATION:AJAM House\, 360 North Main Street\, Sparta\, NC\, 28675\, United States
CATEGORIES:Adult Classes,Adults,Class
END:VEVENT
END:VCALENDAR