BEGIN:VCALENDAR
VERSION:2.0
PRODID:-//Alleghany Jam - ECPv6.15.20//NONSGML v1.0//EN
CALSCALE:GREGORIAN
METHOD:PUBLISH
X-WR-CALNAME:Alleghany Jam
X-ORIGINAL-URL:https://alleghanyjam.com
X-WR-CALDESC:Events for Alleghany Jam
REFRESH-INTERVAL;VALUE=DURATION:PT1H
X-Robots-Tag:noindex
X-PUBLISHED-TTL:PT1H
BEGIN:VTIMEZONE
TZID:America/New_York
BEGIN:DAYLIGHT
TZOFFSETFROM:-0500
TZOFFSETTO:-0400
TZNAME:EDT
DTSTART:20240310T070000
END:DAYLIGHT
BEGIN:STANDARD
TZOFFSETFROM:-0400
TZOFFSETTO:-0500
TZNAME:EST
DTSTART:20241103T060000
END:STANDARD
BEGIN:DAYLIGHT
TZOFFSETFROM:-0500
TZOFFSETTO:-0400
TZNAME:EDT
DTSTART:20250309T070000
END:DAYLIGHT
BEGIN:STANDARD
TZOFFSETFROM:-0400
TZOFFSETTO:-0500
TZNAME:EST
DTSTART:20251102T060000
END:STANDARD
BEGIN:DAYLIGHT
TZOFFSETFROM:-0500
TZOFFSETTO:-0400
TZNAME:EDT
DTSTART:20260308T070000
END:DAYLIGHT
BEGIN:STANDARD
TZOFFSETFROM:-0400
TZOFFSETTO:-0500
TZNAME:EST
DTSTART:20261101T060000
END:STANDARD
END:VTIMEZONE
BEGIN:VEVENT
DTSTART;TZID=America/New_York:20250408T170000
DTEND;TZID=America/New_York:20250408T180000
DTSTAMP:20260423T205503
CREATED:20250207T225511Z
LAST-MODIFIED:20250407T182357Z
UID:10004336-1744131600-1744135200@alleghanyjam.com
SUMMARY:Spring Adult Class - Beginner Mandolin w/ Mr. Kyle Dean Smith
DESCRIPTION:
URL:https://alleghanyjam.com/event/spring-adult-classes-info-coming-soon/2025-04-08/
LOCATION:AJAM House\, 360 North Main Street\, Sparta\, NC\, 28675\, United States
CATEGORIES:Adult Classes,Adults,Class
END:VEVENT
BEGIN:VEVENT
DTSTART;TZID=America/New_York:20250408T170000
DTEND;TZID=America/New_York:20250408T174500
DTSTAMP:20260423T205503
CREATED:20250318T014406Z
LAST-MODIFIED:20250407T182200Z
UID:10004330-1744131600-1744134300@alleghanyjam.com
SUMMARY:Spring Adult Class - Beginner Fiddle w/ Mr. Lucas Pasley
DESCRIPTION:
URL:https://alleghanyjam.com/event/spring-adult-class-beginner-fiddle/2025-04-08/
LOCATION:AJAM House\, 360 North Main Street\, Sparta\, NC\, 28675\, United States
CATEGORIES:Adult Classes,Adults,Class
END:VEVENT
BEGIN:VEVENT
DTSTART;TZID=America/New_York:20250407T180000
DTEND;TZID=America/New_York:20250407T193000
DTSTAMP:20260423T205503
CREATED:20250318T015310Z
LAST-MODIFIED:20250407T175827Z
UID:10003997-1744048800-1744054200@alleghanyjam.com
SUMMARY:Adult Intermediate String Band - w/ Ms. Emily Spencer
DESCRIPTION:
URL:https://alleghanyjam.com/event/adult-intermediate-string-band-w-ms-emily-spencer/2025-04-07/
LOCATION:AJAM House\, 360 North Main Street\, Sparta\, NC\, 28675\, United States
CATEGORIES:Adult Classes,Adults,Class
END:VEVENT
BEGIN:VEVENT
DTSTART;TZID=America/New_York:20250401T180000
DTEND;TZID=America/New_York:20250401T193000
DTSTAMP:20260423T205503
CREATED:20250310T210245Z
LAST-MODIFIED:20250318T020518Z
UID:10004054-1743530400-1743535800@alleghanyjam.com
SUMMARY:Tuesday Night Jam!
DESCRIPTION:Dust off your instruments and join us for an old-time jam! Jack Cahn\, our amazing volunteer and board member\, will be leading the fun. All skill levels are welcome to this friendly and FREE weekly jam session. Come make some music with us!
URL:https://alleghanyjam.com/event/tuesday-night-jam/2025-04-01/
LOCATION:AJAM House\, 360 North Main Street\, Sparta\, NC\, 28675\, United States
CATEGORIES:Adults,Jam,Jams,Jams,Kids
ATTACH;FMTTYPE=image/png:https://alleghanyjam.com/wp-content/uploads/2025/03/Tuesday-Jams.png
END:VEVENT
BEGIN:VEVENT
DTSTART;TZID=America/New_York:20250401T174500
DTEND;TZID=America/New_York:20250401T184500
DTSTAMP:20260423T205503
CREATED:20250318T014735Z
LAST-MODIFIED:20250407T180221Z
UID:10003990-1743529500-1743533100@alleghanyjam.com
SUMMARY:Spring Adult Class - Intermediate Fiddle w/ Mr. Lucas Pasley
DESCRIPTION:
URL:https://alleghanyjam.com/event/spring-adult-class-intermediate-fiddle/2025-04-01/
LOCATION:AJAM House\, 360 North Main Street\, Sparta\, NC\, 28675\, United States
CATEGORIES:Adult Classes,Adults,Class
END:VEVENT
BEGIN:VEVENT
DTSTART;TZID=America/New_York:20250401T170000
DTEND;TZID=America/New_York:20250401T180000
DTSTAMP:20260423T205503
CREATED:20250207T225511Z
LAST-MODIFIED:20250407T182357Z
UID:10004335-1743526800-1743530400@alleghanyjam.com
SUMMARY:Spring Adult Class - Beginner Mandolin w/ Mr. Kyle Dean Smith
DESCRIPTION:
URL:https://alleghanyjam.com/event/spring-adult-classes-info-coming-soon/2025-04-01/
LOCATION:AJAM House\, 360 North Main Street\, Sparta\, NC\, 28675\, United States
CATEGORIES:Adult Classes,Adults,Class
END:VEVENT
BEGIN:VEVENT
DTSTART;TZID=America/New_York:20250401T170000
DTEND;TZID=America/New_York:20250401T174500
DTSTAMP:20260423T205503
CREATED:20250318T014406Z
LAST-MODIFIED:20250407T182200Z
UID:10004329-1743526800-1743529500@alleghanyjam.com
SUMMARY:Spring Adult Class - Beginner Fiddle w/ Mr. Lucas Pasley
DESCRIPTION:
URL:https://alleghanyjam.com/event/spring-adult-class-beginner-fiddle/2025-04-01/
LOCATION:AJAM House\, 360 North Main Street\, Sparta\, NC\, 28675\, United States
CATEGORIES:Adult Classes,Adults,Class
END:VEVENT
BEGIN:VEVENT
DTSTART;TZID=America/New_York:20250331T180000
DTEND;TZID=America/New_York:20250331T193000
DTSTAMP:20260423T205503
CREATED:20250318T015310Z
LAST-MODIFIED:20250407T175827Z
UID:10003996-1743444000-1743449400@alleghanyjam.com
SUMMARY:Adult Intermediate String Band - w/ Ms. Emily Spencer
DESCRIPTION:
URL:https://alleghanyjam.com/event/adult-intermediate-string-band-w-ms-emily-spencer/2025-03-31/
LOCATION:AJAM House\, 360 North Main Street\, Sparta\, NC\, 28675\, United States
CATEGORIES:Adult Classes,Adults,Class
END:VEVENT
BEGIN:VEVENT
DTSTART;TZID=America/New_York:20250325T180000
DTEND;TZID=America/New_York:20250325T193000
DTSTAMP:20260423T205503
CREATED:20250310T210245Z
LAST-MODIFIED:20250318T020518Z
UID:10004053-1742925600-1742931000@alleghanyjam.com
SUMMARY:Tuesday Night Jam!
DESCRIPTION:Dust off your instruments and join us for an old-time jam! Jack Cahn\, our amazing volunteer and board member\, will be leading the fun. All skill levels are welcome to this friendly and FREE weekly jam session. Come make some music with us!
URL:https://alleghanyjam.com/event/tuesday-night-jam/2025-03-25/
LOCATION:AJAM House\, 360 North Main Street\, Sparta\, NC\, 28675\, United States
CATEGORIES:Adults,Jam,Jams,Jams,Kids
ATTACH;FMTTYPE=image/png:https://alleghanyjam.com/wp-content/uploads/2025/03/Tuesday-Jams.png
END:VEVENT
BEGIN:VEVENT
DTSTART;TZID=America/New_York:20250325T174500
DTEND;TZID=America/New_York:20250325T184500
DTSTAMP:20260423T205503
CREATED:20250318T014735Z
LAST-MODIFIED:20250407T180221Z
UID:10003989-1742924700-1742928300@alleghanyjam.com
SUMMARY:Spring Adult Class - Intermediate Fiddle w/ Mr. Lucas Pasley
DESCRIPTION:
URL:https://alleghanyjam.com/event/spring-adult-class-intermediate-fiddle/2025-03-25/
LOCATION:AJAM House\, 360 North Main Street\, Sparta\, NC\, 28675\, United States
CATEGORIES:Adult Classes,Adults,Class
END:VEVENT
BEGIN:VEVENT
DTSTART;TZID=America/New_York:20250325T170000
DTEND;TZID=America/New_York:20250325T180000
DTSTAMP:20260423T205503
CREATED:20250207T225511Z
LAST-MODIFIED:20250407T182357Z
UID:10004334-1742922000-1742925600@alleghanyjam.com
SUMMARY:Spring Adult Class - Beginner Mandolin w/ Mr. Kyle Dean Smith
DESCRIPTION:
URL:https://alleghanyjam.com/event/spring-adult-classes-info-coming-soon/2025-03-25/
LOCATION:AJAM House\, 360 North Main Street\, Sparta\, NC\, 28675\, United States
CATEGORIES:Adult Classes,Adults,Class
END:VEVENT
BEGIN:VEVENT
DTSTART;TZID=America/New_York:20250325T170000
DTEND;TZID=America/New_York:20250325T174500
DTSTAMP:20260423T205503
CREATED:20250318T014406Z
LAST-MODIFIED:20250407T182200Z
UID:10004328-1742922000-1742924700@alleghanyjam.com
SUMMARY:Spring Adult Class - Beginner Fiddle w/ Mr. Lucas Pasley
DESCRIPTION:
URL:https://alleghanyjam.com/event/spring-adult-class-beginner-fiddle/2025-03-25/
LOCATION:AJAM House\, 360 North Main Street\, Sparta\, NC\, 28675\, United States
CATEGORIES:Adult Classes,Adults,Class
END:VEVENT
BEGIN:VEVENT
DTSTART;TZID=America/New_York:20250324T180000
DTEND;TZID=America/New_York:20250324T193000
DTSTAMP:20260423T205503
CREATED:20250318T015310Z
LAST-MODIFIED:20250407T175827Z
UID:10003995-1742839200-1742844600@alleghanyjam.com
SUMMARY:Adult Intermediate String Band - w/ Ms. Emily Spencer
DESCRIPTION:
URL:https://alleghanyjam.com/event/adult-intermediate-string-band-w-ms-emily-spencer/2025-03-24/
LOCATION:AJAM House\, 360 North Main Street\, Sparta\, NC\, 28675\, United States
CATEGORIES:Adult Classes,Adults,Class
END:VEVENT
BEGIN:VEVENT
DTSTART;TZID=America/New_York:20250304T121500
DTEND;TZID=America/New_York:20250304T131500
DTSTAMP:20260423T205503
CREATED:20250124T015836Z
LAST-MODIFIED:20250207T204707Z
UID:10002917-1741090500-1741094100@alleghanyjam.com
SUMMARY:Adult Intermediate Fiddle
DESCRIPTION:
URL:https://alleghanyjam.com/event/adult-intermediate-fiddle-6/
LOCATION:AJAM House\, 360 North Main Street\, Sparta\, NC\, 28675\, United States
END:VEVENT
BEGIN:VEVENT
DTSTART;TZID=America/New_York:20250302T140000
DTEND;TZID=America/New_York:20250302T160000
DTSTAMP:20260423T205503
CREATED:20250220T221111Z
LAST-MODIFIED:20250220T221640Z
UID:10003414-1740924000-1740931200@alleghanyjam.com
SUMMARY:March 2 Coffeehouse!
DESCRIPTION:Come as you are\, and enjoy some coffee and treats!! Join us to play 1-2 songs\, or to listen!
URL:https://alleghanyjam.com/event/march-2-coffeehouse/
LOCATION:AJAM House\, 360 North Main Street\, Sparta\, NC\, 28675\, United States
CATEGORIES:Events
END:VEVENT
BEGIN:VEVENT
DTSTART;TZID=America/New_York:20250225T130000
DTEND;TZID=America/New_York:20250225T140000
DTSTAMP:20260423T205503
CREATED:20250124T015740Z
LAST-MODIFIED:20250124T015740Z
UID:10002916-1740488400-1740492000@alleghanyjam.com
SUMMARY:Adult Intermediate Fiddle
DESCRIPTION:
URL:https://alleghanyjam.com/event/adult-intermediate-fiddle-5/
LOCATION:AJAM House\, 360 North Main Street\, Sparta\, NC\, 28675\, United States
END:VEVENT
BEGIN:VEVENT
DTSTART;TZID=America/New_York:20250223T140000
DTEND;TZID=America/New_York:20250223T160000
DTSTAMP:20260423T205503
CREATED:20250124T012558Z
LAST-MODIFIED:20250220T221728Z
UID:10002910-1740319200-1740326400@alleghanyjam.com
SUMMARY:POSTPONED!!! February Coffeehouse!
DESCRIPTION:Come as you are\, and enjoy some coffee and treats!! Join us to play 1-2 songs\, or to listen!
URL:https://alleghanyjam.com/event/february-coffeehouse/
LOCATION:AJAM House\, 360 North Main Street\, Sparta\, NC\, 28675\, United States
CATEGORIES:Events
END:VEVENT
BEGIN:VEVENT
DTSTART;TZID=America/New_York:20250218T130000
DTEND;TZID=America/New_York:20250218T140000
DTSTAMP:20260423T205503
CREATED:20250124T015634Z
LAST-MODIFIED:20250207T222808Z
UID:10002915-1739883600-1739887200@alleghanyjam.com
SUMMARY:Adult Intermediate Fiddle
DESCRIPTION:
URL:https://alleghanyjam.com/event/adult-intermediate-fiddle-4/
LOCATION:AJAM House\, 360 North Main Street\, Sparta\, NC\, 28675\, United States
CATEGORIES:Adult Classes,Class
END:VEVENT
BEGIN:VEVENT
DTSTART;TZID=America/New_York:20250204T150000
DTEND;TZID=America/New_York:20250204T170000
DTSTAMP:20260423T205503
CREATED:20240703T000923Z
LAST-MODIFIED:20250123T022741Z
UID:10002903-1738681200-1738688400@alleghanyjam.com
SUMMARY:Appalachian Arts - Spring Semester Begins
DESCRIPTION:
URL:https://alleghanyjam.com/event/spring-2025-semester-begins/
LOCATION:AJAM House\, 360 North Main Street\, Sparta\, NC\, 28675\, United States
CATEGORIES:Class
ORGANIZER;CN="Kate Vermilyea":MAILTO:alleghanyjaminfo@gmail.com
END:VEVENT
BEGIN:VEVENT
DTSTART;TZID=America/New_York:20250204T123000
DTEND;TZID=America/New_York:20250204T133000
DTSTAMP:20260423T205503
CREATED:20250124T015554Z
LAST-MODIFIED:20250124T015554Z
UID:10002914-1738672200-1738675800@alleghanyjam.com
SUMMARY:Adult Intermediate Fiddle
DESCRIPTION:
URL:https://alleghanyjam.com/event/adult-intermediate-fiddle-3/
LOCATION:AJAM House\, 360 North Main Street\, Sparta\, NC\, 28675\, United States
END:VEVENT
BEGIN:VEVENT
DTSTART;TZID=America/New_York:20250203T150000
DTEND;TZID=America/New_York:20250203T171500
DTSTAMP:20260423T205503
CREATED:20250123T022416Z
LAST-MODIFIED:20250123T022447Z
UID:10002904-1738594800-1738602900@alleghanyjam.com
SUMMARY:AJAM - First Day of Spring 2025
DESCRIPTION:
URL:https://alleghanyjam.com/event/ajam-first-day-of-spring-2025/
LOCATION:AJAM House\, 360 North Main Street\, Sparta\, NC\, 28675\, United States
CATEGORIES:Class
ORGANIZER;CN="Kate Vermilyea":MAILTO:alleghanyjaminfo@gmail.com
END:VEVENT
BEGIN:VEVENT
DTSTART;TZID=America/New_York:20250128T130000
DTEND;TZID=America/New_York:20250128T140000
DTSTAMP:20260423T205503
CREATED:20250124T015526Z
LAST-MODIFIED:20250124T015526Z
UID:10002913-1738069200-1738072800@alleghanyjam.com
SUMMARY:Adult Intermediate Fiddle
DESCRIPTION:
URL:https://alleghanyjam.com/event/adult-intermediate-fiddle-2/
LOCATION:AJAM House\, 360 North Main Street\, Sparta\, NC\, 28675\, United States
END:VEVENT
BEGIN:VEVENT
DTSTART;TZID=America/New_York:20250121T180000
DTEND;TZID=America/New_York:20250121T190000
DTSTAMP:20260423T205503
CREATED:20250124T015418Z
LAST-MODIFIED:20250124T015418Z
UID:10002912-1737482400-1737486000@alleghanyjam.com
SUMMARY:Adult Intermediate Fiddle
DESCRIPTION:
URL:https://alleghanyjam.com/event/adult-intermediate-fiddle/
LOCATION:AJAM House\, 360 North Main Street\, Sparta\, NC\, 28675\, United States
CATEGORIES:Class
END:VEVENT
END:VCALENDAR