BEGIN:VCALENDAR
VERSION:2.0
PRODID:-//Alleghany Jam - ECPv6.15.20//NONSGML v1.0//EN
CALSCALE:GREGORIAN
METHOD:PUBLISH
X-ORIGINAL-URL:https://alleghanyjam.com
X-WR-CALDESC:Events for Alleghany Jam
REFRESH-INTERVAL;VALUE=DURATION:PT1H
X-Robots-Tag:noindex
X-PUBLISHED-TTL:PT1H
BEGIN:VTIMEZONE
TZID:America/New_York
BEGIN:DAYLIGHT
TZOFFSETFROM:-0500
TZOFFSETTO:-0400
TZNAME:EDT
DTSTART:20240310T070000
END:DAYLIGHT
BEGIN:STANDARD
TZOFFSETFROM:-0400
TZOFFSETTO:-0500
TZNAME:EST
DTSTART:20241103T060000
END:STANDARD
BEGIN:DAYLIGHT
TZOFFSETFROM:-0500
TZOFFSETTO:-0400
TZNAME:EDT
DTSTART:20250309T070000
END:DAYLIGHT
BEGIN:STANDARD
TZOFFSETFROM:-0400
TZOFFSETTO:-0500
TZNAME:EST
DTSTART:20251102T060000
END:STANDARD
BEGIN:DAYLIGHT
TZOFFSETFROM:-0500
TZOFFSETTO:-0400
TZNAME:EDT
DTSTART:20260308T070000
END:DAYLIGHT
BEGIN:STANDARD
TZOFFSETFROM:-0400
TZOFFSETTO:-0500
TZNAME:EST
DTSTART:20261101T060000
END:STANDARD
BEGIN:DAYLIGHT
TZOFFSETFROM:-0500
TZOFFSETTO:-0400
TZNAME:EDT
DTSTART:20270314T070000
END:DAYLIGHT
BEGIN:STANDARD
TZOFFSETFROM:-0400
TZOFFSETTO:-0500
TZNAME:EST
DTSTART:20271107T060000
END:STANDARD
END:VTIMEZONE
BEGIN:VEVENT
DTSTART;TZID=America/New_York:20260222T140000
DTEND;TZID=America/New_York:20260222T160000
DTSTAMP:20260423T030156
CREATED:20260204T172303Z
LAST-MODIFIED:20260204T172303Z
UID:10005451-1771768800-1771776000@alleghanyjam.com
SUMMARY:Feb. 22 Coffee House
DESCRIPTION:Grab a brew and bring your instrument! ☕️🪕 We’re hosting a Coffee House jam at the AJAM House on Feb 22nd. Whether you want to pick a tune or just soak in the music\, we’d love to have you. \n\n\nWhen: Sunday\, Feb. 22 @ 2pm \n\n\nWhere: 360 N. Main St\, Sparta \n\n\nCost: Free!
URL:https://alleghanyjam.com/event/feb-22-coffee-house/
LOCATION:AJAM House\, 360 North Main Street\, Sparta\, NC\, 28675\, United States
CATEGORIES:Adults,Coffeehouses,Events,Jam
ATTACH;FMTTYPE=image/png:https://alleghanyjam.com/wp-content/uploads/2026/02/2.22.26-Coffee-house.png
END:VEVENT
BEGIN:VEVENT
DTSTART;TZID=America/New_York:20260217T180000
DTEND;TZID=America/New_York:20260217T193000
DTSTAMP:20260423T030156
CREATED:20251001T183821Z
LAST-MODIFIED:20251106T174103Z
UID:10005206-1771351200-1771356600@alleghanyjam.com
SUMMARY:TAKING A SNOOZE! Old-time Singing Circle & Jam
DESCRIPTION:We are taking a snooze and pressing pause until spring! Then we will reevaluate hosting this! \n— \nOpen to all\, this informal Old-time singing circle and jam takes place weekly on Tuesdays at 6pm in the AJAM Performance Room. Join Jack Cahn and friends for a great time!
URL:https://alleghanyjam.com/event/2151/2026-02-17/
LOCATION:AJAM House\, 360 North Main Street\, Sparta\, NC\, 28675\, United States
CATEGORIES:Adults,Jams,Jams,Kids
ATTACH;FMTTYPE=image/png:https://alleghanyjam.com/wp-content/uploads/2025/10/winter-breawk-Tuesday-Jams-e1762450856680.png
END:VEVENT
BEGIN:VEVENT
DTSTART;TZID=America/New_York:20260210T180000
DTEND;TZID=America/New_York:20260210T193000
DTSTAMP:20260423T030156
CREATED:20251001T183821Z
LAST-MODIFIED:20251106T174103Z
UID:10005205-1770746400-1770751800@alleghanyjam.com
SUMMARY:TAKING A SNOOZE! Old-time Singing Circle & Jam
DESCRIPTION:We are taking a snooze and pressing pause until spring! Then we will reevaluate hosting this! \n— \nOpen to all\, this informal Old-time singing circle and jam takes place weekly on Tuesdays at 6pm in the AJAM Performance Room. Join Jack Cahn and friends for a great time!
URL:https://alleghanyjam.com/event/2151/2026-02-10/
LOCATION:AJAM House\, 360 North Main Street\, Sparta\, NC\, 28675\, United States
CATEGORIES:Adults,Jams,Jams,Kids
ATTACH;FMTTYPE=image/png:https://alleghanyjam.com/wp-content/uploads/2025/10/winter-breawk-Tuesday-Jams-e1762450856680.png
END:VEVENT
BEGIN:VEVENT
DTSTART;TZID=America/New_York:20260210T153000
DTEND;TZID=America/New_York:20260210T171500
DTSTAMP:20260423T030156
CREATED:20260106T172158Z
LAST-MODIFIED:20260204T172029Z
UID:10005450-1770737400-1770743700@alleghanyjam.com
SUMMARY:Spring 2026 Appalachian Arts Begins!
DESCRIPTION:AJAM: After-school programming in old-time fiddle\, guitar\, banjo\, mandolin\, singing\, dance\, and more!\nAppalachian Arts: Reader’s Theatre focused on Appalachian storytelling\, set design and production\, and songwriting!\nAJAM & Appalachian Arts (Mon\, Tues\, & Wed) \n\n\n\n\n\n\n$200/semester normal fee | more than one child $160 (each\, after first child)\n$100/semester reduced fee – see chart\n\n\n\n\n\n\nAppalachian Arts (Tuesday Only – 3:20 – 5:15 pm)\n\n\n\n\n\n\n$70/semester normal fee | more than one child $56 (each\, after first child)\n$30/semester reduced fee – see chart
URL:https://alleghanyjam.com/event/spring-2026-appalachian-arts-begins/
LOCATION:AJAM House\, 360 North Main Street\, Sparta\, NC\, 28675\, United States
CATEGORIES:Afterschool Classes for Kids,Class,Jam,Kids
ORGANIZER;CN="Kate Vermilyea":MAILTO:alleghanyjaminfo@gmail.com
END:VEVENT
BEGIN:VEVENT
DTSTART;TZID=America/New_York:20260209T153000
DTEND;TZID=America/New_York:20260209T173000
DTSTAMP:20260423T030156
CREATED:20260106T172004Z
LAST-MODIFIED:20260204T172048Z
UID:10005449-1770651000-1770658200@alleghanyjam.com
SUMMARY:Spring 2026 AJAM Begins!
DESCRIPTION:AJAM: After-school programming in old-time fiddle\, guitar\, banjo\, mandolin\, singing\, dance\, and more!\nAppalachian Arts: Reader’s Theatre focused on Appalachian storytelling\, set design and production\, and songwriting!\nAJAM (Mon & Wed 3:20 to 5:25 pm)\n\n\n\n\n\n\n$130/semester normal fee | more than one child $104 (each\, after first child)\n$70/semester reduced fee – see chart\n\n\n\n\n\n\nAJAM & Appalachian Arts (Mon\, Tues\, & Wed)\n\n\n\n\n\n\n$200/semester normal fee | more than one child $160 (each\, after first child)\n$100/semester reduced fee – see chart\n\n\n\n\n\n\nAppalachian Arts (Tuesday Only – 3:20 – 5:15 pm)\n\n\n\n\n\n\n$70/semester normal fee | more than one child $56 (each\, after first child)\n$30/semester reduced fee – see chart
URL:https://alleghanyjam.com/event/spring-2026-ajam-begins/
LOCATION:AJAM House\, 360 North Main Street\, Sparta\, NC\, 28675\, United States
CATEGORIES:Afterschool Classes for Kids,Class,Jam,Kids
ORGANIZER;CN="Kate Vermilyea":MAILTO:alleghanyjaminfo@gmail.com
END:VEVENT
BEGIN:VEVENT
DTSTART;TZID=America/New_York:20260203T180000
DTEND;TZID=America/New_York:20260203T193000
DTSTAMP:20260423T030156
CREATED:20251001T183821Z
LAST-MODIFIED:20251106T174103Z
UID:10005204-1770141600-1770147000@alleghanyjam.com
SUMMARY:TAKING A SNOOZE! Old-time Singing Circle & Jam
DESCRIPTION:We are taking a snooze and pressing pause until spring! Then we will reevaluate hosting this! \n— \nOpen to all\, this informal Old-time singing circle and jam takes place weekly on Tuesdays at 6pm in the AJAM Performance Room. Join Jack Cahn and friends for a great time!
URL:https://alleghanyjam.com/event/2151/2026-02-03/
LOCATION:AJAM House\, 360 North Main Street\, Sparta\, NC\, 28675\, United States
CATEGORIES:Adults,Jams,Jams,Kids
ATTACH;FMTTYPE=image/png:https://alleghanyjam.com/wp-content/uploads/2025/10/winter-breawk-Tuesday-Jams-e1762450856680.png
END:VEVENT
BEGIN:VEVENT
DTSTART;TZID=America/New_York:20260127T180000
DTEND;TZID=America/New_York:20260127T193000
DTSTAMP:20260423T030156
CREATED:20251001T183821Z
LAST-MODIFIED:20251106T174103Z
UID:10005203-1769536800-1769542200@alleghanyjam.com
SUMMARY:TAKING A SNOOZE! Old-time Singing Circle & Jam
DESCRIPTION:We are taking a snooze and pressing pause until spring! Then we will reevaluate hosting this! \n— \nOpen to all\, this informal Old-time singing circle and jam takes place weekly on Tuesdays at 6pm in the AJAM Performance Room. Join Jack Cahn and friends for a great time!
URL:https://alleghanyjam.com/event/2151/2026-01-27/
LOCATION:AJAM House\, 360 North Main Street\, Sparta\, NC\, 28675\, United States
CATEGORIES:Adults,Jams,Jams,Kids
ATTACH;FMTTYPE=image/png:https://alleghanyjam.com/wp-content/uploads/2025/10/winter-breawk-Tuesday-Jams-e1762450856680.png
END:VEVENT
BEGIN:VEVENT
DTSTART;TZID=America/New_York:20260120T180000
DTEND;TZID=America/New_York:20260120T193000
DTSTAMP:20260423T030156
CREATED:20251001T183821Z
LAST-MODIFIED:20251106T174103Z
UID:10005202-1768932000-1768937400@alleghanyjam.com
SUMMARY:TAKING A SNOOZE! Old-time Singing Circle & Jam
DESCRIPTION:We are taking a snooze and pressing pause until spring! Then we will reevaluate hosting this! \n— \nOpen to all\, this informal Old-time singing circle and jam takes place weekly on Tuesdays at 6pm in the AJAM Performance Room. Join Jack Cahn and friends for a great time!
URL:https://alleghanyjam.com/event/2151/2026-01-20/
LOCATION:AJAM House\, 360 North Main Street\, Sparta\, NC\, 28675\, United States
CATEGORIES:Adults,Jams,Jams,Kids
ATTACH;FMTTYPE=image/png:https://alleghanyjam.com/wp-content/uploads/2025/10/winter-breawk-Tuesday-Jams-e1762450856680.png
END:VEVENT
BEGIN:VEVENT
DTSTART;TZID=America/New_York:20260113T180000
DTEND;TZID=America/New_York:20260113T193000
DTSTAMP:20260423T030156
CREATED:20251001T183821Z
LAST-MODIFIED:20251106T174103Z
UID:10005201-1768327200-1768332600@alleghanyjam.com
SUMMARY:TAKING A SNOOZE! Old-time Singing Circle & Jam
DESCRIPTION:We are taking a snooze and pressing pause until spring! Then we will reevaluate hosting this! \n— \nOpen to all\, this informal Old-time singing circle and jam takes place weekly on Tuesdays at 6pm in the AJAM Performance Room. Join Jack Cahn and friends for a great time!
URL:https://alleghanyjam.com/event/2151/2026-01-13/
LOCATION:AJAM House\, 360 North Main Street\, Sparta\, NC\, 28675\, United States
CATEGORIES:Adults,Jams,Jams,Kids
ATTACH;FMTTYPE=image/png:https://alleghanyjam.com/wp-content/uploads/2025/10/winter-breawk-Tuesday-Jams-e1762450856680.png
END:VEVENT
BEGIN:VEVENT
DTSTART;TZID=America/New_York:20260106T180000
DTEND;TZID=America/New_York:20260106T193000
DTSTAMP:20260423T030156
CREATED:20251001T183821Z
LAST-MODIFIED:20251106T174103Z
UID:10005200-1767722400-1767727800@alleghanyjam.com
SUMMARY:TAKING A SNOOZE! Old-time Singing Circle & Jam
DESCRIPTION:We are taking a snooze and pressing pause until spring! Then we will reevaluate hosting this! \n— \nOpen to all\, this informal Old-time singing circle and jam takes place weekly on Tuesdays at 6pm in the AJAM Performance Room. Join Jack Cahn and friends for a great time!
URL:https://alleghanyjam.com/event/2151/2026-01-06/
LOCATION:AJAM House\, 360 North Main Street\, Sparta\, NC\, 28675\, United States
CATEGORIES:Adults,Jams,Jams,Kids
ATTACH;FMTTYPE=image/png:https://alleghanyjam.com/wp-content/uploads/2025/10/winter-breawk-Tuesday-Jams-e1762450856680.png
END:VEVENT
BEGIN:VEVENT
DTSTART;TZID=America/New_York:20251230T180000
DTEND;TZID=America/New_York:20251230T193000
DTSTAMP:20260423T030156
CREATED:20251001T183821Z
LAST-MODIFIED:20251106T174103Z
UID:10005199-1767117600-1767123000@alleghanyjam.com
SUMMARY:TAKING A SNOOZE! Old-time Singing Circle & Jam
DESCRIPTION:We are taking a snooze and pressing pause until spring! Then we will reevaluate hosting this! \n— \nOpen to all\, this informal Old-time singing circle and jam takes place weekly on Tuesdays at 6pm in the AJAM Performance Room. Join Jack Cahn and friends for a great time!
URL:https://alleghanyjam.com/event/2151/2025-12-30/
LOCATION:AJAM House\, 360 North Main Street\, Sparta\, NC\, 28675\, United States
CATEGORIES:Adults,Jams,Jams,Kids
ATTACH;FMTTYPE=image/png:https://alleghanyjam.com/wp-content/uploads/2025/10/winter-breawk-Tuesday-Jams-e1762450856680.png
END:VEVENT
BEGIN:VEVENT
DTSTART;TZID=America/New_York:20251223T180000
DTEND;TZID=America/New_York:20251223T193000
DTSTAMP:20260423T030156
CREATED:20251001T183821Z
LAST-MODIFIED:20251106T174103Z
UID:10005198-1766512800-1766518200@alleghanyjam.com
SUMMARY:TAKING A SNOOZE! Old-time Singing Circle & Jam
DESCRIPTION:We are taking a snooze and pressing pause until spring! Then we will reevaluate hosting this! \n— \nOpen to all\, this informal Old-time singing circle and jam takes place weekly on Tuesdays at 6pm in the AJAM Performance Room. Join Jack Cahn and friends for a great time!
URL:https://alleghanyjam.com/event/2151/2025-12-23/
LOCATION:AJAM House\, 360 North Main Street\, Sparta\, NC\, 28675\, United States
CATEGORIES:Adults,Jams,Jams,Kids
ATTACH;FMTTYPE=image/png:https://alleghanyjam.com/wp-content/uploads/2025/10/winter-breawk-Tuesday-Jams-e1762450856680.png
END:VEVENT
BEGIN:VEVENT
DTSTART;TZID=America/New_York:20251216T180000
DTEND;TZID=America/New_York:20251216T193000
DTSTAMP:20260423T030156
CREATED:20251001T183821Z
LAST-MODIFIED:20251106T174103Z
UID:10005197-1765908000-1765913400@alleghanyjam.com
SUMMARY:TAKING A SNOOZE! Old-time Singing Circle & Jam
DESCRIPTION:We are taking a snooze and pressing pause until spring! Then we will reevaluate hosting this! \n— \nOpen to all\, this informal Old-time singing circle and jam takes place weekly on Tuesdays at 6pm in the AJAM Performance Room. Join Jack Cahn and friends for a great time!
URL:https://alleghanyjam.com/event/2151/2025-12-16/
LOCATION:AJAM House\, 360 North Main Street\, Sparta\, NC\, 28675\, United States
CATEGORIES:Adults,Jams,Jams,Kids
ATTACH;FMTTYPE=image/png:https://alleghanyjam.com/wp-content/uploads/2025/10/winter-breawk-Tuesday-Jams-e1762450856680.png
END:VEVENT
BEGIN:VEVENT
DTSTART;TZID=America/New_York:20251210T152000
DTEND;TZID=America/New_York:20251210T171500
DTSTAMP:20260423T030156
CREATED:20250811T150450Z
LAST-MODIFIED:20260212T180524Z
UID:10004737-1765380000-1765386900@alleghanyjam.com
SUMMARY:Fall 2025 AJAM
DESCRIPTION:Classes are immediately after school (3:20pm) – 5:15pm. \nSept 8 – Dec. 10 \nNO AJAM: \n9/24 \n10/29 \n11/26 \nConcert Dress Rehearsal 12/3 \nFall Concert 12/8 \nLast AJAM (Party) 12/10
URL:https://alleghanyjam.com/event/fall-2025-ajam/2025-12-10/
LOCATION:AJAM House\, 360 North Main Street\, Sparta\, NC\, 28675\, United States
END:VEVENT
BEGIN:VEVENT
DTSTART;TZID=America/New_York:20251209T180000
DTEND;TZID=America/New_York:20251209T193000
DTSTAMP:20260423T030156
CREATED:20251001T183821Z
LAST-MODIFIED:20251106T174103Z
UID:10005196-1765303200-1765308600@alleghanyjam.com
SUMMARY:TAKING A SNOOZE! Old-time Singing Circle & Jam
DESCRIPTION:We are taking a snooze and pressing pause until spring! Then we will reevaluate hosting this! \n— \nOpen to all\, this informal Old-time singing circle and jam takes place weekly on Tuesdays at 6pm in the AJAM Performance Room. Join Jack Cahn and friends for a great time!
URL:https://alleghanyjam.com/event/2151/2025-12-09/
LOCATION:AJAM House\, 360 North Main Street\, Sparta\, NC\, 28675\, United States
CATEGORIES:Adults,Jams,Jams,Kids
ATTACH;FMTTYPE=image/png:https://alleghanyjam.com/wp-content/uploads/2025/10/winter-breawk-Tuesday-Jams-e1762450856680.png
END:VEVENT
BEGIN:VEVENT
DTSTART;TZID=America/New_York:20251208T152000
DTEND;TZID=America/New_York:20251208T171500
DTSTAMP:20260423T030156
CREATED:20250811T150450Z
LAST-MODIFIED:20260212T180524Z
UID:10004736-1765207200-1765214100@alleghanyjam.com
SUMMARY:Fall 2025 AJAM
DESCRIPTION:Classes are immediately after school (3:20pm) – 5:15pm. \nSept 8 – Dec. 10 \nNO AJAM: \n9/24 \n10/29 \n11/26 \nConcert Dress Rehearsal 12/3 \nFall Concert 12/8 \nLast AJAM (Party) 12/10
URL:https://alleghanyjam.com/event/fall-2025-ajam/2025-12-08/
LOCATION:AJAM House\, 360 North Main Street\, Sparta\, NC\, 28675\, United States
END:VEVENT
BEGIN:VEVENT
DTSTART;TZID=America/New_York:20251203T152000
DTEND;TZID=America/New_York:20251203T171500
DTSTAMP:20260423T030156
CREATED:20250811T150450Z
LAST-MODIFIED:20260212T180524Z
UID:10004735-1764775200-1764782100@alleghanyjam.com
SUMMARY:Fall 2025 AJAM
DESCRIPTION:Classes are immediately after school (3:20pm) – 5:15pm. \nSept 8 – Dec. 10 \nNO AJAM: \n9/24 \n10/29 \n11/26 \nConcert Dress Rehearsal 12/3 \nFall Concert 12/8 \nLast AJAM (Party) 12/10
URL:https://alleghanyjam.com/event/fall-2025-ajam/2025-12-03/
LOCATION:AJAM House\, 360 North Main Street\, Sparta\, NC\, 28675\, United States
END:VEVENT
BEGIN:VEVENT
DTSTART;TZID=America/New_York:20251202T180000
DTEND;TZID=America/New_York:20251202T193000
DTSTAMP:20260423T030156
CREATED:20251001T183821Z
LAST-MODIFIED:20251106T174103Z
UID:10005195-1764698400-1764703800@alleghanyjam.com
SUMMARY:TAKING A SNOOZE! Old-time Singing Circle & Jam
DESCRIPTION:We are taking a snooze and pressing pause until spring! Then we will reevaluate hosting this! \n— \nOpen to all\, this informal Old-time singing circle and jam takes place weekly on Tuesdays at 6pm in the AJAM Performance Room. Join Jack Cahn and friends for a great time!
URL:https://alleghanyjam.com/event/2151/2025-12-02/
LOCATION:AJAM House\, 360 North Main Street\, Sparta\, NC\, 28675\, United States
CATEGORIES:Adults,Jams,Jams,Kids
ATTACH;FMTTYPE=image/png:https://alleghanyjam.com/wp-content/uploads/2025/10/winter-breawk-Tuesday-Jams-e1762450856680.png
END:VEVENT
BEGIN:VEVENT
DTSTART;TZID=America/New_York:20251201T152000
DTEND;TZID=America/New_York:20251201T171500
DTSTAMP:20260423T030156
CREATED:20250811T150450Z
LAST-MODIFIED:20260212T180524Z
UID:10004734-1764602400-1764609300@alleghanyjam.com
SUMMARY:Fall 2025 AJAM
DESCRIPTION:Classes are immediately after school (3:20pm) – 5:15pm. \nSept 8 – Dec. 10 \nNO AJAM: \n9/24 \n10/29 \n11/26 \nConcert Dress Rehearsal 12/3 \nFall Concert 12/8 \nLast AJAM (Party) 12/10
URL:https://alleghanyjam.com/event/fall-2025-ajam/2025-12-01/
LOCATION:AJAM House\, 360 North Main Street\, Sparta\, NC\, 28675\, United States
END:VEVENT
BEGIN:VEVENT
DTSTART;TZID=America/New_York:20251125T180000
DTEND;TZID=America/New_York:20251125T193000
DTSTAMP:20260423T030156
CREATED:20251001T183821Z
LAST-MODIFIED:20251106T174103Z
UID:10005194-1764093600-1764099000@alleghanyjam.com
SUMMARY:TAKING A SNOOZE! Old-time Singing Circle & Jam
DESCRIPTION:We are taking a snooze and pressing pause until spring! Then we will reevaluate hosting this! \n— \nOpen to all\, this informal Old-time singing circle and jam takes place weekly on Tuesdays at 6pm in the AJAM Performance Room. Join Jack Cahn and friends for a great time!
URL:https://alleghanyjam.com/event/2151/2025-11-25/
LOCATION:AJAM House\, 360 North Main Street\, Sparta\, NC\, 28675\, United States
CATEGORIES:Adults,Jams,Jams,Kids
ATTACH;FMTTYPE=image/png:https://alleghanyjam.com/wp-content/uploads/2025/10/winter-breawk-Tuesday-Jams-e1762450856680.png
END:VEVENT
BEGIN:VEVENT
DTSTART;TZID=America/New_York:20251124T152000
DTEND;TZID=America/New_York:20251124T171500
DTSTAMP:20260423T030156
CREATED:20250811T150450Z
LAST-MODIFIED:20260212T180524Z
UID:10004733-1763997600-1764004500@alleghanyjam.com
SUMMARY:Fall 2025 AJAM
DESCRIPTION:Classes are immediately after school (3:20pm) – 5:15pm. \nSept 8 – Dec. 10 \nNO AJAM: \n9/24 \n10/29 \n11/26 \nConcert Dress Rehearsal 12/3 \nFall Concert 12/8 \nLast AJAM (Party) 12/10
URL:https://alleghanyjam.com/event/fall-2025-ajam/2025-11-24/
LOCATION:AJAM House\, 360 North Main Street\, Sparta\, NC\, 28675\, United States
END:VEVENT
BEGIN:VEVENT
DTSTART;TZID=America/New_York:20251119T152000
DTEND;TZID=America/New_York:20251119T171500
DTSTAMP:20260423T030156
CREATED:20250811T150450Z
LAST-MODIFIED:20260212T180524Z
UID:10004732-1763565600-1763572500@alleghanyjam.com
SUMMARY:Fall 2025 AJAM
DESCRIPTION:Classes are immediately after school (3:20pm) – 5:15pm. \nSept 8 – Dec. 10 \nNO AJAM: \n9/24 \n10/29 \n11/26 \nConcert Dress Rehearsal 12/3 \nFall Concert 12/8 \nLast AJAM (Party) 12/10
URL:https://alleghanyjam.com/event/fall-2025-ajam/2025-11-19/
LOCATION:AJAM House\, 360 North Main Street\, Sparta\, NC\, 28675\, United States
END:VEVENT
BEGIN:VEVENT
DTSTART;TZID=America/New_York:20251118T180000
DTEND;TZID=America/New_York:20251118T193000
DTSTAMP:20260423T030156
CREATED:20251001T183821Z
LAST-MODIFIED:20251106T174103Z
UID:10005193-1763488800-1763494200@alleghanyjam.com
SUMMARY:TAKING A SNOOZE! Old-time Singing Circle & Jam
DESCRIPTION:We are taking a snooze and pressing pause until spring! Then we will reevaluate hosting this! \n— \nOpen to all\, this informal Old-time singing circle and jam takes place weekly on Tuesdays at 6pm in the AJAM Performance Room. Join Jack Cahn and friends for a great time!
URL:https://alleghanyjam.com/event/2151/2025-11-18/
LOCATION:AJAM House\, 360 North Main Street\, Sparta\, NC\, 28675\, United States
CATEGORIES:Adults,Jams,Jams,Kids
ATTACH;FMTTYPE=image/png:https://alleghanyjam.com/wp-content/uploads/2025/10/winter-breawk-Tuesday-Jams-e1762450856680.png
END:VEVENT
BEGIN:VEVENT
DTSTART;TZID=America/New_York:20251118T170000
DTEND;TZID=America/New_York:20251118T174500
DTSTAMP:20260423T030156
CREATED:20251001T182913Z
LAST-MODIFIED:20251001T182913Z
UID:10005175-1763485200-1763487900@alleghanyjam.com
SUMMARY:Fiddle (Intermediate) with Lucas Pasley
DESCRIPTION:TUESDAYS | 5:45PM – 6:30 PM \nOctober 14 – November 18\, 2025
URL:https://alleghanyjam.com/event/fiddle-intermediate-with-lucas-pasley/2025-11-18/
LOCATION:AJAM House\, 360 North Main Street\, Sparta\, NC\, 28675\, United States
CATEGORIES:Adult Classes,Adults,Class
ATTACH;FMTTYPE=image/png:https://alleghanyjam.com/wp-content/uploads/2025/10/4.png
END:VEVENT
BEGIN:VEVENT
DTSTART;TZID=America/New_York:20251118T170000
DTEND;TZID=America/New_York:20251118T174500
DTSTAMP:20260423T030156
CREATED:20251001T182815Z
LAST-MODIFIED:20251001T183147Z
UID:10005169-1763485200-1763487900@alleghanyjam.com
SUMMARY:Fiddle (Beginner/Beginner+) with Lucas Pasley
DESCRIPTION:TUESDAYS | 5:00 – 5:45PM \nOctober 14 – November 18\, 2025
URL:https://alleghanyjam.com/event/fiddle-beginner-beginner-with-lucas-pasley/2025-11-18/
LOCATION:AJAM House\, 360 North Main Street\, Sparta\, NC\, 28675\, United States
CATEGORIES:Adult Classes,Adults,Class
ATTACH;FMTTYPE=image/png:https://alleghanyjam.com/wp-content/uploads/2025/10/4.png
END:VEVENT
BEGIN:VEVENT
DTSTART;TZID=America/New_York:20251117T180000
DTEND;TZID=America/New_York:20251117T190000
DTSTAMP:20260423T030156
CREATED:20251001T172337Z
LAST-MODIFIED:20251001T182952Z
UID:10005047-1763402400-1763406000@alleghanyjam.com
SUMMARY:Stringband (Intermediate) w/ Emily Spencer & Amy Boucher
DESCRIPTION:MONDAYS @ 6 PM \nOctober 13 – November 17\, 2025
URL:https://alleghanyjam.com/event/stringband-intermediate-w-emily-spencer-amy-boucher/2025-11-17/
LOCATION:AJAM House\, 360 North Main Street\, Sparta\, NC\, 28675\, United States
CATEGORIES:Adult Classes,Adults,Class
ATTACH;FMTTYPE=image/png:https://alleghanyjam.com/wp-content/uploads/2025/10/2.png
END:VEVENT
BEGIN:VEVENT
DTSTART;TZID=America/New_York:20251117T152000
DTEND;TZID=America/New_York:20251117T171500
DTSTAMP:20260423T030156
CREATED:20250811T150450Z
LAST-MODIFIED:20260212T180524Z
UID:10004731-1763392800-1763399700@alleghanyjam.com
SUMMARY:Fall 2025 AJAM
DESCRIPTION:Classes are immediately after school (3:20pm) – 5:15pm. \nSept 8 – Dec. 10 \nNO AJAM: \n9/24 \n10/29 \n11/26 \nConcert Dress Rehearsal 12/3 \nFall Concert 12/8 \nLast AJAM (Party) 12/10
URL:https://alleghanyjam.com/event/fall-2025-ajam/2025-11-17/
LOCATION:AJAM House\, 360 North Main Street\, Sparta\, NC\, 28675\, United States
END:VEVENT
BEGIN:VEVENT
DTSTART;TZID=America/New_York:20251116T140000
DTEND;TZID=America/New_York:20251116T160000
DTSTAMP:20260423T030156
CREATED:20251106T174423Z
LAST-MODIFIED:20251106T174541Z
UID:10005448-1763301600-1763308800@alleghanyjam.com
SUMMARY:Sunday Coffeehouse
DESCRIPTION:Come to play\, listen\, and enjoy some coffee with us!
URL:https://alleghanyjam.com/event/sunday-coffeehouse/
LOCATION:AJAM House\, 360 North Main Street\, Sparta\, NC\, 28675\, United States
CATEGORIES:Adults,Coffeehouses,Events,Kids
ATTACH;FMTTYPE=image/png:https://alleghanyjam.com/wp-content/uploads/2025/11/Sunday-Coffeehouse-Sunday-Nov.-16-2025-2pm-Come-to-play-listen-and-enjoy-a-coffee-e1762451134230.png
END:VEVENT
BEGIN:VEVENT
DTSTART;TZID=America/New_York:20251112T152000
DTEND;TZID=America/New_York:20251112T171500
DTSTAMP:20260423T030156
CREATED:20250811T150450Z
LAST-MODIFIED:20260212T180524Z
UID:10004730-1762960800-1762967700@alleghanyjam.com
SUMMARY:Fall 2025 AJAM
DESCRIPTION:Classes are immediately after school (3:20pm) – 5:15pm. \nSept 8 – Dec. 10 \nNO AJAM: \n9/24 \n10/29 \n11/26 \nConcert Dress Rehearsal 12/3 \nFall Concert 12/8 \nLast AJAM (Party) 12/10
URL:https://alleghanyjam.com/event/fall-2025-ajam/2025-11-12/
LOCATION:AJAM House\, 360 North Main Street\, Sparta\, NC\, 28675\, United States
END:VEVENT
BEGIN:VEVENT
DTSTART;TZID=America/New_York:20251111T180000
DTEND;TZID=America/New_York:20251111T193000
DTSTAMP:20260423T030156
CREATED:20251001T183821Z
LAST-MODIFIED:20251106T174103Z
UID:10005192-1762884000-1762889400@alleghanyjam.com
SUMMARY:TAKING A SNOOZE! Old-time Singing Circle & Jam
DESCRIPTION:We are taking a snooze and pressing pause until spring! Then we will reevaluate hosting this! \n— \nOpen to all\, this informal Old-time singing circle and jam takes place weekly on Tuesdays at 6pm in the AJAM Performance Room. Join Jack Cahn and friends for a great time!
URL:https://alleghanyjam.com/event/2151/2025-11-11/
LOCATION:AJAM House\, 360 North Main Street\, Sparta\, NC\, 28675\, United States
CATEGORIES:Adults,Jams,Jams,Kids
ATTACH;FMTTYPE=image/png:https://alleghanyjam.com/wp-content/uploads/2025/10/winter-breawk-Tuesday-Jams-e1762450856680.png
END:VEVENT
END:VCALENDAR