BEGIN:VCALENDAR
VERSION:2.0
PRODID:-//Alleghany Jam - ECPv6.15.20//NONSGML v1.0//EN
CALSCALE:GREGORIAN
METHOD:PUBLISH
X-ORIGINAL-URL:https://alleghanyjam.com
X-WR-CALDESC:Events for Alleghany Jam
REFRESH-INTERVAL;VALUE=DURATION:PT1H
X-Robots-Tag:noindex
X-PUBLISHED-TTL:PT1H
BEGIN:VTIMEZONE
TZID:America/New_York
BEGIN:DAYLIGHT
TZOFFSETFROM:-0500
TZOFFSETTO:-0400
TZNAME:EDT
DTSTART:20240310T070000
END:DAYLIGHT
BEGIN:STANDARD
TZOFFSETFROM:-0400
TZOFFSETTO:-0500
TZNAME:EST
DTSTART:20241103T060000
END:STANDARD
BEGIN:DAYLIGHT
TZOFFSETFROM:-0500
TZOFFSETTO:-0400
TZNAME:EDT
DTSTART:20250309T070000
END:DAYLIGHT
BEGIN:STANDARD
TZOFFSETFROM:-0400
TZOFFSETTO:-0500
TZNAME:EST
DTSTART:20251102T060000
END:STANDARD
BEGIN:DAYLIGHT
TZOFFSETFROM:-0500
TZOFFSETTO:-0400
TZNAME:EDT
DTSTART:20260308T070000
END:DAYLIGHT
BEGIN:STANDARD
TZOFFSETFROM:-0400
TZOFFSETTO:-0500
TZNAME:EST
DTSTART:20261101T060000
END:STANDARD
END:VTIMEZONE
BEGIN:VEVENT
DTSTART;TZID=America/New_York:20251021T170000
DTEND;TZID=America/New_York:20251021T174500
DTSTAMP:20260423T081843
CREATED:20251001T182815Z
LAST-MODIFIED:20251001T183147Z
UID:10005165-1761066000-1761068700@alleghanyjam.com
SUMMARY:Fiddle (Beginner/Beginner+) with Lucas Pasley
DESCRIPTION:TUESDAYS | 5:00 – 5:45PM \nOctober 14 – November 18\, 2025
URL:https://alleghanyjam.com/event/fiddle-beginner-beginner-with-lucas-pasley/2025-10-21/
LOCATION:AJAM House\, 360 North Main Street\, Sparta\, NC\, 28675\, United States
CATEGORIES:Adult Classes,Adults,Class
ATTACH;FMTTYPE=image/png:https://alleghanyjam.com/wp-content/uploads/2025/10/4.png
END:VEVENT
BEGIN:VEVENT
DTSTART;TZID=America/New_York:20251020T180000
DTEND;TZID=America/New_York:20251020T190000
DTSTAMP:20260423T081843
CREATED:20251001T172337Z
LAST-MODIFIED:20251001T182952Z
UID:10005043-1760983200-1760986800@alleghanyjam.com
SUMMARY:Stringband (Intermediate) w/ Emily Spencer & Amy Boucher
DESCRIPTION:MONDAYS @ 6 PM \nOctober 13 – November 17\, 2025
URL:https://alleghanyjam.com/event/stringband-intermediate-w-emily-spencer-amy-boucher/2025-10-20/
LOCATION:AJAM House\, 360 North Main Street\, Sparta\, NC\, 28675\, United States
CATEGORIES:Adult Classes,Adults,Class
ATTACH;FMTTYPE=image/png:https://alleghanyjam.com/wp-content/uploads/2025/10/2.png
END:VEVENT
BEGIN:VEVENT
DTSTART;TZID=America/New_York:20251020T152000
DTEND;TZID=America/New_York:20251020T171500
DTSTAMP:20260423T081843
CREATED:20250811T150450Z
LAST-MODIFIED:20260212T180524Z
UID:10004724-1760973600-1760980500@alleghanyjam.com
SUMMARY:Fall 2025 AJAM
DESCRIPTION:Classes are immediately after school (3:20pm) – 5:15pm. \nSept 8 – Dec. 10 \nNO AJAM: \n9/24 \n10/29 \n11/26 \nConcert Dress Rehearsal 12/3 \nFall Concert 12/8 \nLast AJAM (Party) 12/10
URL:https://alleghanyjam.com/event/fall-2025-ajam/2025-10-20/
LOCATION:AJAM House\, 360 North Main Street\, Sparta\, NC\, 28675\, United States
END:VEVENT
BEGIN:VEVENT
DTSTART;TZID=America/New_York:20251015T152000
DTEND;TZID=America/New_York:20251015T171500
DTSTAMP:20260423T081843
CREATED:20250811T150450Z
LAST-MODIFIED:20260212T180524Z
UID:10004723-1760541600-1760548500@alleghanyjam.com
SUMMARY:Fall 2025 AJAM
DESCRIPTION:Classes are immediately after school (3:20pm) – 5:15pm. \nSept 8 – Dec. 10 \nNO AJAM: \n9/24 \n10/29 \n11/26 \nConcert Dress Rehearsal 12/3 \nFall Concert 12/8 \nLast AJAM (Party) 12/10
URL:https://alleghanyjam.com/event/fall-2025-ajam/2025-10-15/
LOCATION:AJAM House\, 360 North Main Street\, Sparta\, NC\, 28675\, United States
END:VEVENT
BEGIN:VEVENT
DTSTART;TZID=America/New_York:20251014T180000
DTEND;TZID=America/New_York:20251014T193000
DTSTAMP:20260423T081843
CREATED:20251001T183821Z
LAST-MODIFIED:20251106T174103Z
UID:10005188-1760464800-1760470200@alleghanyjam.com
SUMMARY:TAKING A SNOOZE! Old-time Singing Circle & Jam
DESCRIPTION:We are taking a snooze and pressing pause until spring! Then we will reevaluate hosting this! \n— \nOpen to all\, this informal Old-time singing circle and jam takes place weekly on Tuesdays at 6pm in the AJAM Performance Room. Join Jack Cahn and friends for a great time!
URL:https://alleghanyjam.com/event/2151/2025-10-14/
LOCATION:AJAM House\, 360 North Main Street\, Sparta\, NC\, 28675\, United States
CATEGORIES:Adults,Jams,Jams,Kids
ATTACH;FMTTYPE=image/png:https://alleghanyjam.com/wp-content/uploads/2025/10/winter-breawk-Tuesday-Jams-e1762450856680.png
END:VEVENT
BEGIN:VEVENT
DTSTART;TZID=America/New_York:20251014T170000
DTEND;TZID=America/New_York:20251014T174500
DTSTAMP:20260423T081843
CREATED:20251001T182913Z
LAST-MODIFIED:20251001T182913Z
UID:10005170-1760461200-1760463900@alleghanyjam.com
SUMMARY:Fiddle (Intermediate) with Lucas Pasley
DESCRIPTION:TUESDAYS | 5:45PM – 6:30 PM \nOctober 14 – November 18\, 2025
URL:https://alleghanyjam.com/event/fiddle-intermediate-with-lucas-pasley/2025-10-14/
LOCATION:AJAM House\, 360 North Main Street\, Sparta\, NC\, 28675\, United States
CATEGORIES:Adult Classes,Adults,Class
ATTACH;FMTTYPE=image/png:https://alleghanyjam.com/wp-content/uploads/2025/10/4.png
END:VEVENT
BEGIN:VEVENT
DTSTART;TZID=America/New_York:20251014T170000
DTEND;TZID=America/New_York:20251014T174500
DTSTAMP:20260423T081843
CREATED:20251001T182815Z
LAST-MODIFIED:20251001T183147Z
UID:10005164-1760461200-1760463900@alleghanyjam.com
SUMMARY:Fiddle (Beginner/Beginner+) with Lucas Pasley
DESCRIPTION:TUESDAYS | 5:00 – 5:45PM \nOctober 14 – November 18\, 2025
URL:https://alleghanyjam.com/event/fiddle-beginner-beginner-with-lucas-pasley/2025-10-14/
LOCATION:AJAM House\, 360 North Main Street\, Sparta\, NC\, 28675\, United States
CATEGORIES:Adult Classes,Adults,Class
ATTACH;FMTTYPE=image/png:https://alleghanyjam.com/wp-content/uploads/2025/10/4.png
END:VEVENT
BEGIN:VEVENT
DTSTART;TZID=America/New_York:20251013T180000
DTEND;TZID=America/New_York:20251013T190000
DTSTAMP:20260423T081843
CREATED:20251001T172337Z
LAST-MODIFIED:20251001T182952Z
UID:10005042-1760378400-1760382000@alleghanyjam.com
SUMMARY:Stringband (Intermediate) w/ Emily Spencer & Amy Boucher
DESCRIPTION:MONDAYS @ 6 PM \nOctober 13 – November 17\, 2025
URL:https://alleghanyjam.com/event/stringband-intermediate-w-emily-spencer-amy-boucher/2025-10-13/
LOCATION:AJAM House\, 360 North Main Street\, Sparta\, NC\, 28675\, United States
CATEGORIES:Adult Classes,Adults,Class
ATTACH;FMTTYPE=image/png:https://alleghanyjam.com/wp-content/uploads/2025/10/2.png
END:VEVENT
BEGIN:VEVENT
DTSTART;TZID=America/New_York:20251013T152000
DTEND;TZID=America/New_York:20251013T171500
DTSTAMP:20260423T081843
CREATED:20250811T150450Z
LAST-MODIFIED:20260212T180524Z
UID:10004722-1760368800-1760375700@alleghanyjam.com
SUMMARY:Fall 2025 AJAM
DESCRIPTION:Classes are immediately after school (3:20pm) – 5:15pm. \nSept 8 – Dec. 10 \nNO AJAM: \n9/24 \n10/29 \n11/26 \nConcert Dress Rehearsal 12/3 \nFall Concert 12/8 \nLast AJAM (Party) 12/10
URL:https://alleghanyjam.com/event/fall-2025-ajam/2025-10-13/
LOCATION:AJAM House\, 360 North Main Street\, Sparta\, NC\, 28675\, United States
END:VEVENT
BEGIN:VEVENT
DTSTART;TZID=America/New_York:20251008T152000
DTEND;TZID=America/New_York:20251008T171500
DTSTAMP:20260423T081843
CREATED:20250811T150450Z
LAST-MODIFIED:20260212T180524Z
UID:10004721-1759936800-1759943700@alleghanyjam.com
SUMMARY:Fall 2025 AJAM
DESCRIPTION:Classes are immediately after school (3:20pm) – 5:15pm. \nSept 8 – Dec. 10 \nNO AJAM: \n9/24 \n10/29 \n11/26 \nConcert Dress Rehearsal 12/3 \nFall Concert 12/8 \nLast AJAM (Party) 12/10
URL:https://alleghanyjam.com/event/fall-2025-ajam/2025-10-08/
LOCATION:AJAM House\, 360 North Main Street\, Sparta\, NC\, 28675\, United States
END:VEVENT
BEGIN:VEVENT
DTSTART;TZID=America/New_York:20251007T180000
DTEND;TZID=America/New_York:20251007T193000
DTSTAMP:20260423T081843
CREATED:20250916T120602Z
LAST-MODIFIED:20250916T142235Z
UID:10004369-1759860000-1759865400@alleghanyjam.com
SUMMARY:POSTPONED until 10/14!!! Tuesday Night Jam!
DESCRIPTION:We are postponing this series until 10/14 when we return as a combined jam & singing circle! \n\nDust off your instruments and join us for an old-time jam! Jack Cahn\, our amazing volunteer and board member\, will be leading the fun. All skill levels are welcome to this friendly and FREE weekly jam session. Come make some music with us!
URL:https://alleghanyjam.com/event/tuesday-night-jam-3-2/2025-10-07/
LOCATION:AJAM House\, 360 North Main Street\, Sparta\, NC\, 28675\, United States
CATEGORIES:Adults,Jam,Jams,Jams,Kids
ATTACH;FMTTYPE=image/png:https://alleghanyjam.com/wp-content/uploads/2025/09/pp-Tuesday-Jams-e1758032615537.png
END:VEVENT
BEGIN:VEVENT
DTSTART;TZID=America/New_York:20251006T152000
DTEND;TZID=America/New_York:20251006T171500
DTSTAMP:20260423T081843
CREATED:20250811T150450Z
LAST-MODIFIED:20260212T180524Z
UID:10004720-1759764000-1759770900@alleghanyjam.com
SUMMARY:Fall 2025 AJAM
DESCRIPTION:Classes are immediately after school (3:20pm) – 5:15pm. \nSept 8 – Dec. 10 \nNO AJAM: \n9/24 \n10/29 \n11/26 \nConcert Dress Rehearsal 12/3 \nFall Concert 12/8 \nLast AJAM (Party) 12/10
URL:https://alleghanyjam.com/event/fall-2025-ajam/2025-10-06/
LOCATION:AJAM House\, 360 North Main Street\, Sparta\, NC\, 28675\, United States
END:VEVENT
BEGIN:VEVENT
DTSTART;TZID=America/New_York:20251001T152000
DTEND;TZID=America/New_York:20251001T171500
DTSTAMP:20260423T081843
CREATED:20250811T150450Z
LAST-MODIFIED:20260212T180524Z
UID:10004719-1759332000-1759338900@alleghanyjam.com
SUMMARY:Fall 2025 AJAM
DESCRIPTION:Classes are immediately after school (3:20pm) – 5:15pm. \nSept 8 – Dec. 10 \nNO AJAM: \n9/24 \n10/29 \n11/26 \nConcert Dress Rehearsal 12/3 \nFall Concert 12/8 \nLast AJAM (Party) 12/10
URL:https://alleghanyjam.com/event/fall-2025-ajam/2025-10-01/
LOCATION:AJAM House\, 360 North Main Street\, Sparta\, NC\, 28675\, United States
END:VEVENT
BEGIN:VEVENT
DTSTART;TZID=America/New_York:20250930T180000
DTEND;TZID=America/New_York:20250930T193000
DTSTAMP:20260423T081843
CREATED:20250916T120602Z
LAST-MODIFIED:20250916T142235Z
UID:10004368-1759255200-1759260600@alleghanyjam.com
SUMMARY:POSTPONED until 10/14!!! Tuesday Night Jam!
DESCRIPTION:We are postponing this series until 10/14 when we return as a combined jam & singing circle! \n\nDust off your instruments and join us for an old-time jam! Jack Cahn\, our amazing volunteer and board member\, will be leading the fun. All skill levels are welcome to this friendly and FREE weekly jam session. Come make some music with us!
URL:https://alleghanyjam.com/event/tuesday-night-jam-3-2/2025-09-30/
LOCATION:AJAM House\, 360 North Main Street\, Sparta\, NC\, 28675\, United States
CATEGORIES:Adults,Jam,Jams,Jams,Kids
ATTACH;FMTTYPE=image/png:https://alleghanyjam.com/wp-content/uploads/2025/09/pp-Tuesday-Jams-e1758032615537.png
END:VEVENT
BEGIN:VEVENT
DTSTART;TZID=America/New_York:20250929T152000
DTEND;TZID=America/New_York:20250929T171500
DTSTAMP:20260423T081843
CREATED:20250811T150450Z
LAST-MODIFIED:20260212T180524Z
UID:10004718-1759159200-1759166100@alleghanyjam.com
SUMMARY:Fall 2025 AJAM
DESCRIPTION:Classes are immediately after school (3:20pm) – 5:15pm. \nSept 8 – Dec. 10 \nNO AJAM: \n9/24 \n10/29 \n11/26 \nConcert Dress Rehearsal 12/3 \nFall Concert 12/8 \nLast AJAM (Party) 12/10
URL:https://alleghanyjam.com/event/fall-2025-ajam/2025-09-29/
LOCATION:AJAM House\, 360 North Main Street\, Sparta\, NC\, 28675\, United States
END:VEVENT
BEGIN:VEVENT
DTSTART;TZID=America/New_York:20250923T180000
DTEND;TZID=America/New_York:20250923T193000
DTSTAMP:20260423T081843
CREATED:20250916T120602Z
LAST-MODIFIED:20250916T142235Z
UID:10004367-1758650400-1758655800@alleghanyjam.com
SUMMARY:POSTPONED until 10/14!!! Tuesday Night Jam!
DESCRIPTION:We are postponing this series until 10/14 when we return as a combined jam & singing circle! \n\nDust off your instruments and join us for an old-time jam! Jack Cahn\, our amazing volunteer and board member\, will be leading the fun. All skill levels are welcome to this friendly and FREE weekly jam session. Come make some music with us!
URL:https://alleghanyjam.com/event/tuesday-night-jam-3-2/2025-09-23/
LOCATION:AJAM House\, 360 North Main Street\, Sparta\, NC\, 28675\, United States
CATEGORIES:Adults,Jam,Jams,Jams,Kids
ATTACH;FMTTYPE=image/png:https://alleghanyjam.com/wp-content/uploads/2025/09/pp-Tuesday-Jams-e1758032615537.png
END:VEVENT
BEGIN:VEVENT
DTSTART;TZID=America/New_York:20250922T152000
DTEND;TZID=America/New_York:20250922T171500
DTSTAMP:20260423T081843
CREATED:20250811T150450Z
LAST-MODIFIED:20260212T180524Z
UID:10004717-1758554400-1758561300@alleghanyjam.com
SUMMARY:Fall 2025 AJAM
DESCRIPTION:Classes are immediately after school (3:20pm) – 5:15pm. \nSept 8 – Dec. 10 \nNO AJAM: \n9/24 \n10/29 \n11/26 \nConcert Dress Rehearsal 12/3 \nFall Concert 12/8 \nLast AJAM (Party) 12/10
URL:https://alleghanyjam.com/event/fall-2025-ajam/2025-09-22/
LOCATION:AJAM House\, 360 North Main Street\, Sparta\, NC\, 28675\, United States
END:VEVENT
BEGIN:VEVENT
DTSTART;TZID=America/New_York:20250917T152000
DTEND;TZID=America/New_York:20250917T171500
DTSTAMP:20260423T081843
CREATED:20250811T150450Z
LAST-MODIFIED:20260212T180524Z
UID:10004716-1758122400-1758129300@alleghanyjam.com
SUMMARY:Fall 2025 AJAM
DESCRIPTION:Classes are immediately after school (3:20pm) – 5:15pm. \nSept 8 – Dec. 10 \nNO AJAM: \n9/24 \n10/29 \n11/26 \nConcert Dress Rehearsal 12/3 \nFall Concert 12/8 \nLast AJAM (Party) 12/10
URL:https://alleghanyjam.com/event/fall-2025-ajam/2025-09-17/
LOCATION:AJAM House\, 360 North Main Street\, Sparta\, NC\, 28675\, United States
END:VEVENT
BEGIN:VEVENT
DTSTART;TZID=America/New_York:20250916T180000
DTEND;TZID=America/New_York:20250916T193000
DTSTAMP:20260423T081843
CREATED:20250916T120602Z
LAST-MODIFIED:20250916T142235Z
UID:10004366-1758045600-1758051000@alleghanyjam.com
SUMMARY:POSTPONED until 10/14!!! Tuesday Night Jam!
DESCRIPTION:We are postponing this series until 10/14 when we return as a combined jam & singing circle! \n\nDust off your instruments and join us for an old-time jam! Jack Cahn\, our amazing volunteer and board member\, will be leading the fun. All skill levels are welcome to this friendly and FREE weekly jam session. Come make some music with us!
URL:https://alleghanyjam.com/event/tuesday-night-jam-3-2/2025-09-16/
LOCATION:AJAM House\, 360 North Main Street\, Sparta\, NC\, 28675\, United States
CATEGORIES:Adults,Jam,Jams,Jams,Kids
ATTACH;FMTTYPE=image/png:https://alleghanyjam.com/wp-content/uploads/2025/09/pp-Tuesday-Jams-e1758032615537.png
END:VEVENT
BEGIN:VEVENT
DTSTART;TZID=America/New_York:20250915T152000
DTEND;TZID=America/New_York:20250915T171500
DTSTAMP:20260423T081843
CREATED:20250811T150450Z
LAST-MODIFIED:20260212T180524Z
UID:10004715-1757949600-1757956500@alleghanyjam.com
SUMMARY:Fall 2025 AJAM
DESCRIPTION:Classes are immediately after school (3:20pm) – 5:15pm. \nSept 8 – Dec. 10 \nNO AJAM: \n9/24 \n10/29 \n11/26 \nConcert Dress Rehearsal 12/3 \nFall Concert 12/8 \nLast AJAM (Party) 12/10
URL:https://alleghanyjam.com/event/fall-2025-ajam/2025-09-15/
LOCATION:AJAM House\, 360 North Main Street\, Sparta\, NC\, 28675\, United States
END:VEVENT
BEGIN:VEVENT
DTSTART;TZID=America/New_York:20250910T152000
DTEND;TZID=America/New_York:20250910T171500
DTSTAMP:20260423T081843
CREATED:20250811T150450Z
LAST-MODIFIED:20260212T180524Z
UID:10004714-1757517600-1757524500@alleghanyjam.com
SUMMARY:Fall 2025 AJAM
DESCRIPTION:Classes are immediately after school (3:20pm) – 5:15pm. \nSept 8 – Dec. 10 \nNO AJAM: \n9/24 \n10/29 \n11/26 \nConcert Dress Rehearsal 12/3 \nFall Concert 12/8 \nLast AJAM (Party) 12/10
URL:https://alleghanyjam.com/event/fall-2025-ajam/2025-09-10/
LOCATION:AJAM House\, 360 North Main Street\, Sparta\, NC\, 28675\, United States
END:VEVENT
BEGIN:VEVENT
DTSTART;TZID=America/New_York:20250909T180000
DTEND;TZID=America/New_York:20250909T193000
DTSTAMP:20260423T081843
CREATED:20250422T143729Z
LAST-MODIFIED:20250422T143729Z
UID:10004365-1757440800-1757446200@alleghanyjam.com
SUMMARY:Tuesday Night Jam!
DESCRIPTION:Dust off your instruments and join us for an old-time jam! Jack Cahn\, our amazing volunteer and board member\, will be leading the fun. All skill levels are welcome to this friendly and FREE weekly jam session. Come make some music with us!
URL:https://alleghanyjam.com/event/tuesday-night-jam-3/2025-09-09/
LOCATION:AJAM House\, 360 North Main Street\, Sparta\, NC\, 28675\, United States
CATEGORIES:Adults,Jam,Jams,Jams,Kids
ATTACH;FMTTYPE=image/png:https://alleghanyjam.com/wp-content/uploads/2025/03/All-Tuesday-Jams.png
END:VEVENT
BEGIN:VEVENT
DTSTART;TZID=America/New_York:20250908T152000
DTEND;TZID=America/New_York:20250908T171500
DTSTAMP:20260423T081843
CREATED:20250811T150149Z
LAST-MODIFIED:20250811T150149Z
UID:10004713-1757344800-1757351700@alleghanyjam.com
SUMMARY:Fall 2025 AJAM Semester Begins!
DESCRIPTION:Register now!
URL:https://alleghanyjam.com/event/fall-2025-ajam-semester-begins/
LOCATION:AJAM House\, 360 North Main Street\, Sparta\, NC\, 28675\, United States
END:VEVENT
BEGIN:VEVENT
DTSTART;TZID=America/New_York:20250902T180000
DTEND;TZID=America/New_York:20250902T193000
DTSTAMP:20260423T081843
CREATED:20250422T143729Z
LAST-MODIFIED:20250422T143729Z
UID:10004364-1756836000-1756841400@alleghanyjam.com
SUMMARY:Tuesday Night Jam!
DESCRIPTION:Dust off your instruments and join us for an old-time jam! Jack Cahn\, our amazing volunteer and board member\, will be leading the fun. All skill levels are welcome to this friendly and FREE weekly jam session. Come make some music with us!
URL:https://alleghanyjam.com/event/tuesday-night-jam-3/2025-09-02/
LOCATION:AJAM House\, 360 North Main Street\, Sparta\, NC\, 28675\, United States
CATEGORIES:Adults,Jam,Jams,Jams,Kids
ATTACH;FMTTYPE=image/png:https://alleghanyjam.com/wp-content/uploads/2025/03/All-Tuesday-Jams.png
END:VEVENT
BEGIN:VEVENT
DTSTART;TZID=America/New_York:20250828T173000
DTEND;TZID=America/New_York:20250828T190000
DTSTAMP:20260423T081844
CREATED:20250207T222237Z
LAST-MODIFIED:20250828T012112Z
UID:10002928-1756402200-1756407600@alleghanyjam.com
SUMMARY:August Singing Circle
DESCRIPTION:
URL:https://alleghanyjam.com/event/september-coffeehouse/
LOCATION:AJAM House\, 360 North Main Street\, Sparta\, NC\, 28675\, United States
CATEGORIES:Coffeehouses,Events
ATTACH;FMTTYPE=image/png:https://alleghanyjam.com/wp-content/uploads/2025/02/singing-circle-25-e1755538032396.png
END:VEVENT
BEGIN:VEVENT
DTSTART;TZID=America/New_York:20250826T180000
DTEND;TZID=America/New_York:20250826T193000
DTSTAMP:20260423T081844
CREATED:20250422T143729Z
LAST-MODIFIED:20250422T143729Z
UID:10004363-1756231200-1756236600@alleghanyjam.com
SUMMARY:Tuesday Night Jam!
DESCRIPTION:Dust off your instruments and join us for an old-time jam! Jack Cahn\, our amazing volunteer and board member\, will be leading the fun. All skill levels are welcome to this friendly and FREE weekly jam session. Come make some music with us!
URL:https://alleghanyjam.com/event/tuesday-night-jam-3/2025-08-26/
LOCATION:AJAM House\, 360 North Main Street\, Sparta\, NC\, 28675\, United States
CATEGORIES:Adults,Jam,Jams,Jams,Kids
ATTACH;FMTTYPE=image/png:https://alleghanyjam.com/wp-content/uploads/2025/03/All-Tuesday-Jams.png
END:VEVENT
BEGIN:VEVENT
DTSTART;TZID=America/New_York:20250819T180000
DTEND;TZID=America/New_York:20250819T193000
DTSTAMP:20260423T081844
CREATED:20250422T143729Z
LAST-MODIFIED:20250422T143729Z
UID:10004362-1755626400-1755631800@alleghanyjam.com
SUMMARY:Tuesday Night Jam!
DESCRIPTION:Dust off your instruments and join us for an old-time jam! Jack Cahn\, our amazing volunteer and board member\, will be leading the fun. All skill levels are welcome to this friendly and FREE weekly jam session. Come make some music with us!
URL:https://alleghanyjam.com/event/tuesday-night-jam-3/2025-08-19/
LOCATION:AJAM House\, 360 North Main Street\, Sparta\, NC\, 28675\, United States
CATEGORIES:Adults,Jam,Jams,Jams,Kids
ATTACH;FMTTYPE=image/png:https://alleghanyjam.com/wp-content/uploads/2025/03/All-Tuesday-Jams.png
END:VEVENT
BEGIN:VEVENT
DTSTART;TZID=America/New_York:20250812T180000
DTEND;TZID=America/New_York:20250812T193000
DTSTAMP:20260423T081844
CREATED:20250422T143729Z
LAST-MODIFIED:20250422T143729Z
UID:10004361-1755021600-1755027000@alleghanyjam.com
SUMMARY:Tuesday Night Jam!
DESCRIPTION:Dust off your instruments and join us for an old-time jam! Jack Cahn\, our amazing volunteer and board member\, will be leading the fun. All skill levels are welcome to this friendly and FREE weekly jam session. Come make some music with us!
URL:https://alleghanyjam.com/event/tuesday-night-jam-3/2025-08-12/
LOCATION:AJAM House\, 360 North Main Street\, Sparta\, NC\, 28675\, United States
CATEGORIES:Adults,Jam,Jams,Jams,Kids
ATTACH;FMTTYPE=image/png:https://alleghanyjam.com/wp-content/uploads/2025/03/All-Tuesday-Jams.png
END:VEVENT
BEGIN:VEVENT
DTSTART;TZID=America/New_York:20250805T180000
DTEND;TZID=America/New_York:20250805T193000
DTSTAMP:20260423T081844
CREATED:20250422T143729Z
LAST-MODIFIED:20250422T143729Z
UID:10004360-1754416800-1754422200@alleghanyjam.com
SUMMARY:Tuesday Night Jam!
DESCRIPTION:Dust off your instruments and join us for an old-time jam! Jack Cahn\, our amazing volunteer and board member\, will be leading the fun. All skill levels are welcome to this friendly and FREE weekly jam session. Come make some music with us!
URL:https://alleghanyjam.com/event/tuesday-night-jam-3/2025-08-05/
LOCATION:AJAM House\, 360 North Main Street\, Sparta\, NC\, 28675\, United States
CATEGORIES:Adults,Jam,Jams,Jams,Kids
ATTACH;FMTTYPE=image/png:https://alleghanyjam.com/wp-content/uploads/2025/03/All-Tuesday-Jams.png
END:VEVENT
BEGIN:VEVENT
DTSTART;TZID=America/New_York:20250729T180000
DTEND;TZID=America/New_York:20250729T193000
DTSTAMP:20260423T081844
CREATED:20250422T143729Z
LAST-MODIFIED:20250422T143729Z
UID:10004359-1753812000-1753817400@alleghanyjam.com
SUMMARY:Tuesday Night Jam!
DESCRIPTION:Dust off your instruments and join us for an old-time jam! Jack Cahn\, our amazing volunteer and board member\, will be leading the fun. All skill levels are welcome to this friendly and FREE weekly jam session. Come make some music with us!
URL:https://alleghanyjam.com/event/tuesday-night-jam-3/2025-07-29/
LOCATION:AJAM House\, 360 North Main Street\, Sparta\, NC\, 28675\, United States
CATEGORIES:Adults,Jam,Jams,Jams,Kids
ATTACH;FMTTYPE=image/png:https://alleghanyjam.com/wp-content/uploads/2025/03/All-Tuesday-Jams.png
END:VEVENT
END:VCALENDAR